BEGIN:VCALENDAR
VERSION:2.0
PRODID:-//evangelische-termine.de//NONSGML kigkonsult.se iCalcreator 2.18//
CALSCALE:GREGORIAN
METHOD:PUBLISH
X-WR-CALNAME:iCal Evangelische-Termine 22.04.2026
X-WR-CALDESC:iCalender von Evangelische-Termine (22.04.2026)
X-WR-TIMEZONE:Europe/Berlin
X-MS-OLK-FORCEINSPECTOROPEN:TRUE
BEGIN:VTIMEZONE
TZID:Europe/Berlin
BEGIN:STANDARD
DTSTART:19701025T030000
TZOFFSETFROM:+0200
TZOFFSETTO:+0100
RRULE:FREQ=YEARLY;BYDAY=-1SU;BYMONTH=10
TZNAME:CET
END:STANDARD
BEGIN:DAYLIGHT
DTSTART:19700329T020000
TZOFFSETFROM:+0100
TZOFFSETTO:+0200
RRULE:FREQ=YEARLY;BYDAY=-1SU;BYMONTH=3
TZNAME:CEST
END:DAYLIGHT
END:VTIMEZONE
BEGIN:VEVENT
UID:20251126T190000-15418@evangelische-termine.de
DTSTAMP:20260422T000002Z
DESCRIPTION:\nVeranstaltungsort: Unionskirche\nMartin-Luther-Str. 1\n65510 
 Idstein\nAusführliche Beschreibung: Der Eintritt ist frei. Um Spenden zu G
 unsten der Hospizstiftung Idsteiner Land wird gebeten!
DTSTART;TZID=Europe/Berlin:20251126T190000
DTEND;TZID=Europe/Berlin:20251126T200000
LOCATION:Idstein: Unionskirche
SUMMARY:Celebrating Life - Benefiz-Orgelkonzert :: Carsten Koch spielt eige
 ne Werke anlässlich seines 50. Geburtstags
URL:https://termine.ekhn.de/veranstaltung_im_detail15418.html
END:VEVENT
END:VCALENDAR
