BEGIN:VCALENDAR
VERSION:2.0
PRODID:-//evangelische-termine.de//NONSGML kigkonsult.se iCalcreator 2.18//
CALSCALE:GREGORIAN
METHOD:PUBLISH
X-WR-CALNAME:iCal Evangelische-Termine 21.04.2026
X-WR-CALDESC:iCalender von Evangelische-Termine (21.04.2026)
X-WR-TIMEZONE:Europe/Berlin
X-MS-OLK-FORCEINSPECTOROPEN:TRUE
BEGIN:VTIMEZONE
TZID:Europe/Berlin
BEGIN:STANDARD
DTSTART:19701025T030000
TZOFFSETFROM:+0200
TZOFFSETTO:+0100
RRULE:FREQ=YEARLY;BYDAY=-1SU;BYMONTH=10
TZNAME:CET
END:STANDARD
BEGIN:DAYLIGHT
DTSTART:19700329T020000
TZOFFSETFROM:+0100
TZOFFSETTO:+0200
RRULE:FREQ=YEARLY;BYDAY=-1SU;BYMONTH=3
TZNAME:CEST
END:DAYLIGHT
END:VTIMEZONE
BEGIN:VEVENT
UID:20251019T103000-15837@evangelische-termine.de
DTSTAMP:20260421T075140Z
DESCRIPTION:\nFür Engagierte: Nein\nVeranstaltungsort: FilmBühne Bad Nauhei
 m\nKurstraße 3\n61231 Bad Nauheim\nFormat der Veranstaltung: Präsenzverans
 taltung\nKurzbeschreibung / Untertitel: Aktion in der FilmBühne Bad Nauhei
 m im Oktober 2025\nAusführliche Beschreibung: Das Evangelische Dekanat Wet
 terau und die Regionale Diakonie Oberhessen bieten gemeinsam mit der FilmB
 ühne Bad Nauheim eine besondere Kinovorstellung an: Am Sonntag\, 19. Oktob
 er\, laden die Veranstalter herzlich ein\, einmal alleine ins Kino zu gehe
 n und dort auf Gleichgesinnte zu treffen. Los geht es ab 10.30 Uhr. Dann i
 st Zeit zum Ankommen und Kennenlernen. Um 11 Uhr startet der Kinofilm. Gez
 eigt wird der französische Filmklassiker “Ziemlich beste Freunde”. Im Ansc
 hluss an die Vorstellung wartet ein kleiner Imbiss auf die Teilnehmenden.
 \n\nDer Kinobesuch ist für die Teilnehmenden kostenfrei. Sie sind von den 
 Veranstaltern eingeladen. Die Plätze im Kinosaal sind begrenzt. Daher wird
  um Anmeldung gebeten\, um die entsprechenden Plätze zu reservieren. Es is
 t aber auch möglich\, spontan vorbeizukommen.\n\nDie Veranstaltung versteh
 t sich als Teil der Aktion „Du bist nicht allein allein“ der Evangelischen
  Kirche in Hessen und Nassau und findet im Rahmen der Woche der Seelischen
  Gesundheit statt.\nInternetadresse: https://kino.wetterau-evangelisch.de
 \nKosten: keine\nVeranstalter: Evangelisches Dekanat Wetterau\, Regionale 
 Diakonie Oberhessen und FilmBühne Bad Nauheim\nTelefonnummer bei Rückfrage
 n zur Veranstaltung: 06031 1615417
DTSTART;TZID=Europe/Berlin:20251019T103000
DTEND;TZID=Europe/Berlin:20251019T133000
LOCATION:Bad Nauheim: FilmBühne Bad Nauheim
SUMMARY:Kinokonnekt: alleine kommen - gemeinsam schauen :: Aktion in der Fi
 lmBühne Bad Nauheim im Oktober 2025
URL:https://termine.ekhn.de/veranstaltung_im_detail15837.html
END:VEVENT
END:VCALENDAR
