BEGIN:VCALENDAR
VERSION:2.0
PRODID:-//evangelische-termine.de//NONSGML kigkonsult.se iCalcreator 2.18//
CALSCALE:GREGORIAN
METHOD:PUBLISH
X-WR-CALNAME:iCal Evangelische-Termine 20.04.2026
X-WR-CALDESC:iCalender von Evangelische-Termine (20.04.2026)
X-WR-TIMEZONE:Europe/Berlin
X-MS-OLK-FORCEINSPECTOROPEN:TRUE
BEGIN:VTIMEZONE
TZID:Europe/Berlin
BEGIN:STANDARD
DTSTART:19701025T030000
TZOFFSETFROM:+0200
TZOFFSETTO:+0100
RRULE:FREQ=YEARLY;BYDAY=-1SU;BYMONTH=10
TZNAME:CET
END:STANDARD
BEGIN:DAYLIGHT
DTSTART:19700329T020000
TZOFFSETFROM:+0100
TZOFFSETTO:+0200
RRULE:FREQ=YEARLY;BYDAY=-1SU;BYMONTH=3
TZNAME:CEST
END:DAYLIGHT
END:VTIMEZONE
BEGIN:VEVENT
UID:20251125T000000-17719@evangelische-termine.de
DTSTAMP:20260420T084929Z
DESCRIPTION:\nFür Engagierte: Ja\nVeranstaltungsort: Ev. Kirchengemeinde Di
 edenbergen\nCasteller Str. 37\n65719 Diedenbergen\nFormat der Veranstaltun
 g: Präsenzveranstaltung\nAusführliche Beschreibung: Das Evangelische Dekan
 at Kronberg hat unter dem Titel „Wer bin ich? – Haltung zeigen in stürmisc
 hen Zeiten“ eine Ausstellung zu Leben und Wirken des Theologen und Widerst
 andskämpfers Dietrich Bonhoeffer entwickelt. \n80 Jahre nach seiner Hinric
 htung soll sie an den Widerstand des Pfarrers gegen die Judenverfolgung im
  Nationalsozialismus und sein bis in die heutige Zeit wirkendes Vermächtni
 s erinnern. Sie richtet sich an Erwachsene und Jugendliche und enthält int
 eraktive Elemente\, die zum Nachdenken anregen. \n\nIn der Ev. Kirchengeme
 inde Diedenbergen wird sie durch folgendes Begleitprogramm ergänzt:\n\n16.
 11.25\,  9.30 Uhr: Bonhoeffer-Gottesdienst in der Kirche\n26.11.25\,  15.0
 0 - 19.30 Uhr: Ausstellung im Gemeindehaus\n                 19.30 Uhr Vor
 tragsabend \n\nDie Ausstellung kann zum o.g. Zeitraum besichtigt werden.\n
 Internetadresse: https://diedenbergen.net/\nBild Alttext: Titelmotiv der B
 onhoeffer-Ausstellung\nKosten: kostenlos\nVeranstalter: Ev. Kirchengemeind
 e Diedenbergen\nTelefonnummer bei Rückfragen zur Veranstaltung: 06192 3976
 8
DTSTART;VALUE=DATE:20251125
DTEND;VALUE=DATE:20251128
LOCATION:Diedenbergen: Ev. Kirchengemeinde Diedenbergen
SUMMARY:Dietrich Bonhoeffer Ausstellung :: „Wer bin ich? – Haltung zeigen i
 n stürmischen Zeiten“
URL:https://termine.ekhn.de/veranstaltung_im_detail17719.html
END:VEVENT
END:VCALENDAR
