BEGIN:VCALENDAR
VERSION:2.0
PRODID:-//evangelische-termine.de//NONSGML kigkonsult.se iCalcreator 2.18//
CALSCALE:GREGORIAN
METHOD:PUBLISH
X-WR-CALNAME:iCal Evangelische-Termine 23.04.2026
X-WR-CALDESC:iCalender von Evangelische-Termine (23.04.2026)
X-WR-TIMEZONE:Europe/Berlin
X-MS-OLK-FORCEINSPECTOROPEN:TRUE
BEGIN:VTIMEZONE
TZID:Europe/Berlin
BEGIN:STANDARD
DTSTART:19701025T030000
TZOFFSETFROM:+0200
TZOFFSETTO:+0100
RRULE:FREQ=YEARLY;BYDAY=-1SU;BYMONTH=10
TZNAME:CET
END:STANDARD
BEGIN:DAYLIGHT
DTSTART:19700329T020000
TZOFFSETFROM:+0100
TZOFFSETTO:+0200
RRULE:FREQ=YEARLY;BYDAY=-1SU;BYMONTH=3
TZNAME:CEST
END:DAYLIGHT
END:VTIMEZONE
BEGIN:VEVENT
UID:20260713T000000-18401@evangelische-termine.de
DTSTAMP:20260423T061043Z
DESCRIPTION:\nAusführliche Beschreibung: Wir freuen uns auf Besuch von unse
 rer Partnergruppe aus Kyrgyzstan und auf eine von Jugendlichen selbst konz
 ipierte Jugendbegegnung unter dem Motto: „Leben in der Stadt– Leben auf de
 m Land“. Die Begegnung findet in Wiesbaden\, Köln und Höchst im Odenwald s
 tatt und bietet jede Menge Abenteuer\, Austausch und neue Erfahrungen.\n\n
 Es erwarten dich Workshops zu Sprachen und Kultur\, aufregende Ausflüge in
  den Kletterpark\, Städtetrips und genügend freie Zeit\, um die Umgebung z
 u entdecken und neue Freund*innen kennenzulernen. Sei Gastgeber*in und ges
 talte die Begegnung aktiv mit!\n\nWer an dieser Jugendbegegnung teilnimmt\
 , qualifiziert sich für die Rückbegegnung im Juli 2027 in der Hauptstadt B
 ischkek und den Bergen von Kyrgyzstan beim Deutschen Haus – eine einmalige
  Gelegenheit\, die Kultur und Lebenswelt der Partner*innen hautnah zu erle
 ben.\n\nDie Veranstaltungsorte sind: Wiesbaden\, Köln und Höchst im Odenwa
 ld\n\nAnmeldeschluss ist der 28.02.2026.\n\n+++ INZWISCHEN SIND ALLE PLÄTZ
 E ZUR TEILNAHME BELEGT +++\n\n---\nVeranstalter: Fachbereich Kinder und Ju
 gend\nim Zentrum Bildung in Kindheit und Jugend der EKHN\nKontakt: bei Fra
 gen zur Anmeldung:\nMelanie Müller-Zacke\n06151 6690-138\nmelanie.mueller-
 zacke@ekhn.de\nZielgruppe: Jugendliche und junge Erwachsene von 16 bis 24 
 Jahren\nLeitung/ Verantwortlichkeit: Katharina Adamek\n06151 6690-135\nkat
 harina.adamek@ekhn.de\nund ihr Team: Eva Heldmann\, Biktur Atambay (Deutsc
 hes Haus in Bischkek)\, Nikita Borisov (Deutsches Haus in Bischkek)\nTeiln
 ahmegebür: 300\,- EURO (inkl. Unterkunft und Verpflegung)
DTSTART;VALUE=DATE:20260713
DTEND;VALUE=DATE:20260727
LOCATION:: Ohne Ort
SUMMARY:Kелүү- Kelüü 2026! - Internationale Jugendbegegnung Teil 1
URL:https://termine.ekhn.de/veranstaltung_im_detail18401.html
END:VEVENT
END:VCALENDAR
