BEGIN:VCALENDAR
VERSION:2.0
PRODID:-//evangelische-termine.de//NONSGML kigkonsult.se iCalcreator 2.18//
CALSCALE:GREGORIAN
METHOD:PUBLISH
X-WR-CALNAME:iCal Evangelische-Termine 20.04.2026
X-WR-CALDESC:iCalender von Evangelische-Termine (20.04.2026)
X-WR-TIMEZONE:Europe/Berlin
X-MS-OLK-FORCEINSPECTOROPEN:TRUE
BEGIN:VTIMEZONE
TZID:Europe/Berlin
BEGIN:STANDARD
DTSTART:19701025T030000
TZOFFSETFROM:+0200
TZOFFSETTO:+0100
RRULE:FREQ=YEARLY;BYDAY=-1SU;BYMONTH=10
TZNAME:CET
END:STANDARD
BEGIN:DAYLIGHT
DTSTART:19700329T020000
TZOFFSETFROM:+0100
TZOFFSETTO:+0200
RRULE:FREQ=YEARLY;BYDAY=-1SU;BYMONTH=3
TZNAME:CEST
END:DAYLIGHT
END:VTIMEZONE
BEGIN:VEVENT
UID:20260509T093000-19892@evangelische-termine.de
DTSTAMP:20260420T051956Z
DESCRIPTION:\nFür Engagierte: Ja\nVeranstaltungsort: Geistliches Zentrum Ni
 eder-Weisel\nJohanniterstraße 7\n35510 Butzbach\nFormat der Veranstaltung:
  Präsenzveranstaltung\nAusführliche Beschreibung: Wer nach einem heilsamen
  inneren Weg in christlich-abendländischer Tradition sucht\, findet bei de
 m spätmittelalterlichen Mystiker Meister Eckehart einen Ansatz\, der bis i
 n die heutige Zeit Menschen fasziniert und geprägt hat. In unvergleichlich
  klarer und kraftvoller Sprache weist Eckehart den Weg in die Gegenwart de
 s Göttlichen. Er tut dies – erstaunlich modern – in einer Weise\, die sich
  auch Menschen erschließt\, denen ein traditionell-dogmatisches Gottesvers
 tändnis fremd oder fremd geworden ist. Wir beginnen\, indem wir gemeinsam 
 einen Text von Eckehart bedenken. Die Auseinandersetzung mit dem Text führ
 t uns in die praktische Übung. Wir gehen in die Stille. Für Eckehart ist K
 ontemplation ein reines achtsames Lauschen im gegenwärtigen Augenblick\, e
 in Beten ohne Worte. In diesem Jahr wenden wir uns vormittags Eckeharts Re
 den der Unterweisung zu. \n\nSa. 14.02.2026\, 09:30 - 16:00 Uhr – Reden 1-
 4: Kraftvoll auf den Weg finden durch radikales „lassen“\nSa. 09.05.2026\,
  09:30 - 16:00 Uhr – Reden 5-8: Entschieden auf dem Weg bleiben und „Werke
  vernünftig wirken“\nSa. 22.08.2026\, 09:30 - 16:00 Uhr – Reden 20+21: „De
 n Leib des Herrn empfangen“: Von der Gottesgeburt in der Seele\nSa. 28.11.
 2026\, 09:30 –16:00 Uhr – Reden 22+23: 'Nachfolge“: innere und äußere Werk
 e\n\nNach einem gemeinsamen Mittagsimbiss gehen wir in die Übung der Konte
 mplation. Sie beinhaltet Phasen des regungslosen Sitzens und des achtsamen
  Gehens sowie eine Einheit mit Gebetsgesten. Bei Bedarf erfolgt vorab eine
  kurze Einführung. Parallel besteht die Möglichkeit zum Einzelgespräch. Di
 e Teilnahme an einzelnen Veranstaltungen ist möglich.\n\nLiteratur: Meiste
 r Eckehart\, Deutsche Predigten und Traktate\, Ausgabe Josef Quint \nLeitu
 ng: Dr. Jürgen Flender\, Psychologe und Kontemplationslehrer\; Co-Leitung:
  Johannes Hoeltz\, Pfarrer und Geistlicher Begleiter\n\nAnmeldeschluss jew
 eils 14 Tage vor der Veranstaltung\nInternetadresse: https://www.geistlich
 es-zentrum-nieder-weisel.de\nKosten: je Termin 50\,-€ (inkl. Mittagsimbiss
 \, Getränke und Kursgebühr)\nVeranstalter: Geistliches Zentrum Nieder-Weis
 el\nTelefonnummer bei Rückfragen zur Veranstaltung: 06033 749246
DTSTART;TZID=Europe/Berlin:20260509T093000
DTEND;TZID=Europe/Berlin:20260509T160000
LOCATION:Butzbach: Geistliches Zentrum Nieder-Weisel
SUMMARY:In die Stille gehen mit Meister Eckehart :: Reden 5-8: Entschieden 
 auf dem Weg bleiben und „Werke vernünftig wirken“
URL:https://termine.ekhn.de/veranstaltung_im_detail19892.html
END:VEVENT
END:VCALENDAR
