BEGIN:VCALENDAR
VERSION:2.0
PRODID:-//evangelische-termine.de//NONSGML kigkonsult.se iCalcreator 2.18//
CALSCALE:GREGORIAN
METHOD:PUBLISH
X-WR-CALNAME:iCal Evangelische-Termine 20.04.2026
X-WR-CALDESC:iCalender von Evangelische-Termine (20.04.2026)
X-WR-TIMEZONE:Europe/Berlin
X-MS-OLK-FORCEINSPECTOROPEN:TRUE
BEGIN:VTIMEZONE
TZID:Europe/Berlin
BEGIN:STANDARD
DTSTART:19701025T030000
TZOFFSETFROM:+0200
TZOFFSETTO:+0100
RRULE:FREQ=YEARLY;BYDAY=-1SU;BYMONTH=10
TZNAME:CET
END:STANDARD
BEGIN:DAYLIGHT
DTSTART:19700329T020000
TZOFFSETFROM:+0100
TZOFFSETTO:+0200
RRULE:FREQ=YEARLY;BYDAY=-1SU;BYMONTH=3
TZNAME:CEST
END:DAYLIGHT
END:VTIMEZONE
BEGIN:VEVENT
UID:20260507T093000-19976@evangelische-termine.de
DTSTAMP:20260420T051937Z
DESCRIPTION:\nFür Engagierte: Ja\nVeranstaltungsort: Geistliches Zentrum Ni
 eder-Weisel\nJohanniterstraße 7\n35510 Butzbach\nFormat der Veranstaltung:
  Präsenzveranstaltung\nAusführliche Beschreibung: Alltäglich sind Sie in I
 hren Berufen für andere Menschen hilfreich da. An diesem Tag wollen wir mi
 t Ihnen Kraftreserven auftanken und Ausschau halten nach dem\, was uns Ori
 entierung und Bestätigung für unser Tun geben kann. Ein Wahrnehmungsspazie
 rgang\, Entspannungsübungen\, Beschäftigung mit einem biblischen Impuls zu
 r Entschleunigung sowie Austausch in der Gruppe sind Elemente dieses Tages
 . Ruhezeiten in der besonderen Atmosphäre der romanischen Komturkirche hel
 fen\, in die Wahrnehmung der Gegenwart zu kommen. Wir laden Sie ein\, den 
 Alltag zu unterbrechen und sich diese Auszeit zu nehmen. Sie helfen\, dem 
 Wesentlichen des Lebens neu Aufmerksamkeit zu schenken – damit das Weiterg
 ehen in Alltag und Beruf wieder leichter geht. Die ökumenisch ausgerichtet
 e Veranstaltung richtet sich besonders an Erzieherinnen und Erzieher\, Pfl
 egekräfte u. a. von Johannitern und Maltesern\, Diakonie und Caritas\, und
  andere kirchliche Einrichtungen. Der Oasentage ist für Mitarbeitende ein 
 Exerzitientag mit Arbeitsbefreiung. \n\nLeitung: Johannes Misterek\, Pfarr
 er am Geistl. Zentrum und Exerzitienbegleiter\; Dr. Juliane Reus\, Pastora
 lreferentin und Geistliche Begleiterin\; Sabrina Scheer\, Vikarin im spezi
 alvikariat (07.05)\n\nAnmeldeschluss jeweils 14 Tage vor der Veranstaltung
 \nInternetadresse: https://www.geistliches-zentrum-nieder-weisel.de\nKoste
 n: 65\,-€ (inkl. Mittagbuffet\, Getränke und Kursgebühr)\nVeranstalter: Ge
 istliches Zentrum Nieder-Weisel\nTelefonnummer bei Rückfragen zur Veransta
 ltung: 06033 749246
DTSTART;TZID=Europe/Berlin:20260507T093000
DTEND;TZID=Europe/Berlin:20260507T160000
LOCATION:Butzbach: Geistliches Zentrum Nieder-Weisel
SUMMARY:„Zeit für mich!“ – Ein Oasentag für Menschen in helfenden Berufen
URL:https://termine.ekhn.de/veranstaltung_im_detail19976.html
END:VEVENT
END:VCALENDAR
