BEGIN:VCALENDAR
VERSION:2.0
PRODID:-//evangelische-termine.de//NONSGML kigkonsult.se iCalcreator 2.18//
CALSCALE:GREGORIAN
METHOD:PUBLISH
X-WR-CALNAME:iCal Evangelische-Termine 20.04.2026
X-WR-CALDESC:iCalender von Evangelische-Termine (20.04.2026)
X-WR-TIMEZONE:Europe/Berlin
X-MS-OLK-FORCEINSPECTOROPEN:TRUE
BEGIN:VTIMEZONE
TZID:Europe/Berlin
BEGIN:STANDARD
DTSTART:19701025T030000
TZOFFSETFROM:+0200
TZOFFSETTO:+0100
RRULE:FREQ=YEARLY;BYDAY=-1SU;BYMONTH=10
TZNAME:CET
END:STANDARD
BEGIN:DAYLIGHT
DTSTART:19700329T020000
TZOFFSETFROM:+0100
TZOFFSETTO:+0200
RRULE:FREQ=YEARLY;BYDAY=-1SU;BYMONTH=3
TZNAME:CEST
END:DAYLIGHT
END:VTIMEZONE
BEGIN:VEVENT
UID:20260510T113000-20056@evangelische-termine.de
DTSTAMP:20260420T080538Z
DESCRIPTION:\nFür Engagierte: Nein\nVeranstaltungsort: Lutherkirche Wiesbad
 en\nMosbacher Straße 2\n65187 Wiesbaden\nFormat der Veranstaltung: Präsenz
 veranstaltung\nAusführliche Beschreibung: Niklas Sikner\, Orgel\nGirolamo 
 Frescobaldi: Toccata Quinta\nJohann Sebastian Bach: Toccata in d-Moll BWV 
 565\nDorische Toccata BWV 538\nTheodore Dubois: Toccata in G-Dur John Rutt
 er: Toccata in Seven Alexandre Guilmant: Final der 1. Symphonie\nInterneta
 dresse: https://luther-wiesbaden.de/musik/#eventId=41071005&eventName=sonn
 tagsmatinee-toccata\nKosten: Eintritt frei
DTSTART;TZID=Europe/Berlin:20260510T113000
DTEND;TZID=Europe/Berlin:20260510T123000
LOCATION:Wiesbaden: Lutherkirche Wiesbaden
SUMMARY:Sonntagsmatinee: Toccata!
URL:https://termine.ekhn.de/veranstaltung_im_detail20056.html
END:VEVENT
END:VCALENDAR
