BEGIN:VCALENDAR
VERSION:2.0
PRODID:-//evangelische-termine.de//NONSGML kigkonsult.se iCalcreator 2.18//
CALSCALE:GREGORIAN
METHOD:PUBLISH
X-WR-CALNAME:iCal Evangelische-Termine 20.04.2026
X-WR-CALDESC:iCalender von Evangelische-Termine (20.04.2026)
X-WR-TIMEZONE:Europe/Berlin
X-MS-OLK-FORCEINSPECTOROPEN:TRUE
BEGIN:VTIMEZONE
TZID:Europe/Berlin
BEGIN:STANDARD
DTSTART:19701025T030000
TZOFFSETFROM:+0200
TZOFFSETTO:+0100
RRULE:FREQ=YEARLY;BYDAY=-1SU;BYMONTH=10
TZNAME:CET
END:STANDARD
BEGIN:DAYLIGHT
DTSTART:19700329T020000
TZOFFSETFROM:+0100
TZOFFSETTO:+0200
RRULE:FREQ=YEARLY;BYDAY=-1SU;BYMONTH=3
TZNAME:CEST
END:DAYLIGHT
END:VTIMEZONE
BEGIN:VEVENT
UID:20260523T180000-20057@evangelische-termine.de
DTSTAMP:20260420T044828Z
DESCRIPTION:\nFür Engagierte: Nein\nVeranstaltungsort: Lutherkirche Wiesbad
 en\nMosbacher Straße 2\n65187 Wiesbaden\nFormat der Veranstaltung: Präsenz
 veranstaltung\nAusführliche Beschreibung: Pfarrerin Ursula Kuhn\, Liturgie
 \n Mitglieder des Bachchors Wiesbaden und der Evangelischen Singakademie\n
 Edward Elgar: Great is the Lord \nCharles V. Stanford: Evening Service in 
 B-Dur\nInternetadresse: https://luther-wiesbaden.de/musik/#eventId=4107102
 2&eventName=evensong
DTSTART;TZID=Europe/Berlin:20260523T180000
DTEND;TZID=Europe/Berlin:20260523T190000
LOCATION:Wiesbaden: Lutherkirche Wiesbaden
SUMMARY:Evensong
URL:https://termine.ekhn.de/veranstaltung_im_detail20057.html
END:VEVENT
END:VCALENDAR
