BEGIN:VCALENDAR
VERSION:2.0
PRODID:-//evangelische-termine.de//NONSGML kigkonsult.se iCalcreator 2.18//
CALSCALE:GREGORIAN
METHOD:PUBLISH
X-WR-CALNAME:iCal Evangelische-Termine 25.04.2026
X-WR-CALDESC:iCalender von Evangelische-Termine (25.04.2026)
X-WR-TIMEZONE:Europe/Berlin
X-MS-OLK-FORCEINSPECTOROPEN:TRUE
BEGIN:VTIMEZONE
TZID:Europe/Berlin
BEGIN:STANDARD
DTSTART:19701025T030000
TZOFFSETFROM:+0200
TZOFFSETTO:+0100
RRULE:FREQ=YEARLY;BYDAY=-1SU;BYMONTH=10
TZNAME:CET
END:STANDARD
BEGIN:DAYLIGHT
DTSTART:19700329T020000
TZOFFSETFROM:+0100
TZOFFSETTO:+0200
RRULE:FREQ=YEARLY;BYDAY=-1SU;BYMONTH=3
TZNAME:CEST
END:DAYLIGHT
END:VTIMEZONE
BEGIN:VEVENT
UID:20260902T193000-20392@evangelische-termine.de
DTSTAMP:20260425T115753Z
DESCRIPTION:\nFür Engagierte: Ja\nVeranstaltungsort: Geistliches Zentrum Ni
 eder-Weisel\nJohanniterstraße 7\n35510 Butzbach\nFormat der Veranstaltung:
  Präsenzveranstaltung\nAusführliche Beschreibung: Wir leben in einer Zeit\
 , die von Geschäftigkeit\, Tempo und Optimierungsdruck gekennzeichnet ist.
  Und diese Betriebsamkeit spiegelt sich auch in unserem Inneren. Wie kann 
 es da gelingen\, zu einer heilsamen Stille zu finden\, die uns achtsam wer
 den lässt für uns selbst und für die verborgene Gegenwart Gottes? Eine Sti
 lle\, aus der uns Kraft zuwächst für den Alltag? \n\nDie offenen Meditatio
 nsabende möchten Anregungen geben\, der Kraft der Stille mitten in einem o
 ft lauten und anforderungsreichen Alltag auf die Spur zu kommen. Elemente\
 , die die Abende gestalten: Kleine Körperübungen\, biblische Impulse\, gem
 einsames Meditieren in der Stille (zweimal 10-15 min)\, Körpergebete. \n\n
 Das Angebot ist offen für alle\, die eine spezifische Praxis der Stille un
 d des stillen Gebets pflegen\, aber auch für diejenigen\, die ohne besonde
 re Praxis die wohltuende Wirkung der Stille und der Meditation kennenlerne
 n möchten. Wer im Anschluss noch zu Austausch und Gespräch in lockerer Run
 de bleiben möchte\, ist dazu herzlich eingeladen. Die offenen Meditationsa
 bende finden in der Regel am ersten Mittwoch des Monats statt. Meditations
 bänke und Decken sind vorhanden. \n\nLeitung: Christoph Baumann\, Pfarrer\
 ; Dr. Jochen Walldorf\, Pfarrer und Anleiter in Christlicher Meditation\nT
 ermine: mittwochs 04.02.\, 04.03.\, 01.04.\, 06.05.\, 03.06.\, 01.07.\, 02
 .09.\, 07.10.\, 04.11.\, 02.12.2026\; je 19:30 - 21:00 Uhr\n\nOrt: Geistli
 ches Zentrum Nieder-Weisel\, Ordenshaus\, Blauer Saal\n\nAnmeldung nicht e
 rforderlich\nInternetadresse: https://www.geistliches-zentrum-nieder-weise
 l.de\nKosten: Spenden willkommen\nVeranstalter: Geistliches Zentrum Nieder
 -Weisel\nTelefonnummer bei Rückfragen zur Veranstaltung: 06033 749246
DTSTART;TZID=Europe/Berlin:20260902T193000
DTEND;TZID=Europe/Berlin:20260902T210000
LOCATION:Butzbach: Geistliches Zentrum Nieder-Weisel
SUMMARY:Offene Meditationsabende
URL:https://termine.ekhn.de/veranstaltung_im_detail20392.html
END:VEVENT
END:VCALENDAR
