BEGIN:VCALENDAR
VERSION:2.0
PRODID:-//evangelische-termine.de//NONSGML kigkonsult.se iCalcreator 2.18//
CALSCALE:GREGORIAN
METHOD:PUBLISH
X-WR-CALNAME:iCal Evangelische-Termine 23.04.2026
X-WR-CALDESC:iCalender von Evangelische-Termine (23.04.2026)
X-WR-TIMEZONE:Europe/Berlin
X-MS-OLK-FORCEINSPECTOROPEN:TRUE
BEGIN:VTIMEZONE
TZID:Europe/Berlin
BEGIN:STANDARD
DTSTART:19701025T030000
TZOFFSETFROM:+0200
TZOFFSETTO:+0100
RRULE:FREQ=YEARLY;BYDAY=-1SU;BYMONTH=10
TZNAME:CET
END:STANDARD
BEGIN:DAYLIGHT
DTSTART:19700329T020000
TZOFFSETFROM:+0100
TZOFFSETTO:+0200
RRULE:FREQ=YEARLY;BYDAY=-1SU;BYMONTH=3
TZNAME:CEST
END:DAYLIGHT
END:VTIMEZONE
BEGIN:VEVENT
UID:20260226T093000-28027@evangelische-termine.de
DTSTAMP:20260423T211143Z
DESCRIPTION:\nFür Engagierte: Nein\nVeranstaltungsort: Jüdische Gemeinde Da
 rmstadt\nWilhelm-Glässing-Straße 26\n64283 Darmstadt\nFormat der Veranstal
 tung: Präsenzveranstaltung\nKurzbeschreibung / Untertitel: Sehen und hören
 \, was andere glauben…\nAusführliche Beschreibung: Wir laden zum gemeinsam
 en Besuch der Synagoge in Darmstadt ein. Vielleicht waren Sie noch nie in 
 einer Synagoge und sind neugierig? Bei einer Führung mit einem Mitglied de
 r Jüdischen Gemeinde gibt es Einblicke in das Leben der Jüdischen Gemeinde
  in Darmstadt\, in die Architektur des Gemeindezentrums und in das religiö
 se Leben. \n\nEs können Fragen gestellt und beantwortet werden. \nGemeinsa
 mkeiten und Unterschiede der Religionen entdecken und sich darüber austaus
 chen - dazu sind Sie herzlich eingeladen.\n\nWir treffen uns direkt vor Or
 t: Parkmöglichkeiten z.B. im Parkhaus\nStaatstheater und ca. 500 m Fußweg 
 (7 Min.) oder mit öffentlichen\nVerkehrsmitteln: Haltestelle Heinrichstraß
 e und ca. 300 m Fußweg oder Haltestelle Schulstraße.\n\nBitte gültigen Per
 sonalausweis mitbringen!\n\nLeitung: Margit Binz\, Pfarrerin für Ökumene u
 nd interreligiöser Dialog\, und Dr. Rose Schließmann\nAnmeldung und Kontak
 t ab sofort bis 15. Februar 2026 an rose.schliessmann@ekhn.de oder Tel. 06
 078-78259-18\nKosten: keine\nVeranstalter: Evangelisches Dekanat Vorderer 
 Odenwald
DTSTART;TZID=Europe/Berlin:20260226T093000
DTEND;TZID=Europe/Berlin:20260226T110000
LOCATION:Darmstadt: Jüdische Gemeinde Darmstadt
SUMMARY:Einander wahrnehmen in der Nachbarschaft: Synagogen-Besuch
URL:https://termine.ekhn.de/veranstaltung_im_detail28027.html
END:VEVENT
END:VCALENDAR
