BEGIN:VCALENDAR
VERSION:2.0
PRODID:-//evangelische-termine.de//NONSGML kigkonsult.se iCalcreator 2.18//
CALSCALE:GREGORIAN
METHOD:PUBLISH
X-WR-CALNAME:iCal Evangelische-Termine 20.04.2026
X-WR-CALDESC:iCalender von Evangelische-Termine (20.04.2026)
X-WR-TIMEZONE:Europe/Berlin
X-MS-OLK-FORCEINSPECTOROPEN:TRUE
BEGIN:VTIMEZONE
TZID:Europe/Berlin
BEGIN:STANDARD
DTSTART:19701025T030000
TZOFFSETFROM:+0200
TZOFFSETTO:+0100
RRULE:FREQ=YEARLY;BYDAY=-1SU;BYMONTH=10
TZNAME:CET
END:STANDARD
BEGIN:DAYLIGHT
DTSTART:19700329T020000
TZOFFSETFROM:+0100
TZOFFSETTO:+0200
RRULE:FREQ=YEARLY;BYDAY=-1SU;BYMONTH=3
TZNAME:CEST
END:DAYLIGHT
END:VTIMEZONE
BEGIN:VEVENT
UID:20260517T180000-30381@evangelische-termine.de
DTSTAMP:20260420T063415Z
DESCRIPTION:\nFür Engagierte: Nein\nVeranstaltungsort: Ev. Ringkirche\nKais
 er-Friedrich-Ring 7\n65185 Wiesbaden\nFormat der Veranstaltung: Präsenzver
 anstaltung\nAusführliche Beschreibung: Jugendchor der Ringkirche\neine Ban
 d\nLeitung: Hans Kielblock\nInternetadresse: https://www.ringkirche.de\nBi
 ld Alttext: Der Jugendchor der Ringkirche auf Probenfahrt\nKosten: Eintrit
 t frei\nVeranstalter: Ev. Ringkirchengemeinde\nTelefonnummer bei Rückfrage
 n zur Veranstaltung: 06111735945
DTSTART;TZID=Europe/Berlin:20260517T180000
DTEND;TZID=Europe/Berlin:20260517T190000
LOCATION:Wiesbaden: Ev. Ringkirche
SUMMARY:Lydia (Musical) :: Jugendchor der Ringkirche
URL:https://termine.ekhn.de/veranstaltung_im_detail30381.html
END:VEVENT
END:VCALENDAR
