BEGIN:VCALENDAR
VERSION:2.0
PRODID:-//evangelische-termine.de//NONSGML kigkonsult.se iCalcreator 2.18//
CALSCALE:GREGORIAN
METHOD:PUBLISH
X-WR-CALNAME:iCal Evangelische-Termine 20.04.2026
X-WR-CALDESC:iCalender von Evangelische-Termine (20.04.2026)
X-WR-TIMEZONE:Europe/Berlin
X-MS-OLK-FORCEINSPECTOROPEN:TRUE
BEGIN:VTIMEZONE
TZID:Europe/Berlin
BEGIN:STANDARD
DTSTART:19701025T030000
TZOFFSETFROM:+0200
TZOFFSETTO:+0100
RRULE:FREQ=YEARLY;BYDAY=-1SU;BYMONTH=10
TZNAME:CET
END:STANDARD
BEGIN:DAYLIGHT
DTSTART:19700329T020000
TZOFFSETFROM:+0100
TZOFFSETTO:+0200
RRULE:FREQ=YEARLY;BYDAY=-1SU;BYMONTH=3
TZNAME:CEST
END:DAYLIGHT
END:VTIMEZONE
BEGIN:VEVENT
UID:20260511T000000-30476@evangelische-termine.de
DTSTAMP:20260420T125530Z
DESCRIPTION:\nVeranstaltungsort: Katholisches Jugendheim in Ockstadt\nWalds
 traße 17-19\n61169 Friedberg\nAusführliche Beschreibung: Wir vom Seniorenk
 reisteam wünschen uns wieder einen guten und regen Besuch bei den nachmitt
 äglichen Veranstaltungen in gemeinschaftlicher Runde. Jeder ist willkommen
 \, egal welcher Konfession und gerne auch mit Begleitung.\nUnsere Senioren
 nachmittage verstehen sich als Treffpunkte Älterer (Ü-60)\, bei denen es u
 m Geselligkeit\, lebensgeschichtliches Erzählen\, um aktivierende Anregung
 en\, um aktuelle gesellschaftliche und religiöse Themen\, aber auch um vie
 le Anregungen zu mehr Lebensqualität beim möglichst eigenständigen und bez
 iehungsreichen Älterwerden geht.
DTSTART;VALUE=DATE:20260511
DTEND;VALUE=DATE:20260512
LOCATION:Friedberg: Katholisches Jugendheim in Ockstadt
SUMMARY:Ökum. Seniorennachmittag Ockstadt :: Marienandacht\, Würstchen gril
 len und Salate vorbereiten
URL:https://termine.ekhn.de/veranstaltung_im_detail30476.html
END:VEVENT
END:VCALENDAR
