BEGIN:VCALENDAR
VERSION:2.0
PRODID:-//evangelische-termine.de//NONSGML kigkonsult.se iCalcreator 2.18//
CALSCALE:GREGORIAN
METHOD:PUBLISH
X-WR-CALNAME:iCal Evangelische-Termine 22.04.2026
X-WR-CALDESC:iCalender von Evangelische-Termine (22.04.2026)
X-WR-TIMEZONE:Europe/Berlin
X-MS-OLK-FORCEINSPECTOROPEN:TRUE
BEGIN:VTIMEZONE
TZID:Europe/Berlin
BEGIN:STANDARD
DTSTART:19701025T030000
TZOFFSETFROM:+0200
TZOFFSETTO:+0100
RRULE:FREQ=YEARLY;BYDAY=-1SU;BYMONTH=10
TZNAME:CET
END:STANDARD
BEGIN:DAYLIGHT
DTSTART:19700329T020000
TZOFFSETFROM:+0100
TZOFFSETTO:+0200
RRULE:FREQ=YEARLY;BYDAY=-1SU;BYMONTH=3
TZNAME:CEST
END:DAYLIGHT
END:VTIMEZONE
BEGIN:VEVENT
UID:20260503T100000-32097@evangelische-termine.de
DTSTAMP:20260422T143427Z
DESCRIPTION:\nFür Engagierte: Nein\nVeranstaltungsort: Ev. Kirche Liederbac
 h\nAlt-Oberliederbach 5\n65835 Liederbach am Taunus\nFormat der Veranstalt
 ung: Präsenzveranstaltung\nAusführliche Beschreibung: Wir feiern gemeinsam
  Gottesdienst in der Ev. Kirche und laden im Anschluss ein bei Kaffee oder
  Tee miteinander ins Gespräch zu kommen.\nBild Alttext: Kirchturm zwischen
  grünen Bäumen\nVeranstalter: Ev. Kirchengemeinde\nTelefonnummer bei Rückf
 ragen zur Veranstaltung: 06196-527060
DTSTART;TZID=Europe/Berlin:20260503T100000
DTEND;TZID=Europe/Berlin:20260503T110000
LOCATION:Liederbach am Taunus: Ev. Kirche Liederbach
SUMMARY:Gottesdienst :: mit anschließendem Kirchkaffee
URL:https://termine.ekhn.de/veranstaltung_im_detail32097.html
END:VEVENT
END:VCALENDAR
