BEGIN:VCALENDAR
VERSION:2.0
PRODID:-//evangelische-termine.de//NONSGML kigkonsult.se iCalcreator 2.18//
CALSCALE:GREGORIAN
METHOD:PUBLISH
X-WR-CALNAME:iCal Evangelische-Termine 20.04.2026
X-WR-CALDESC:iCalender von Evangelische-Termine (20.04.2026)
X-WR-TIMEZONE:Europe/Berlin
X-MS-OLK-FORCEINSPECTOROPEN:TRUE
BEGIN:VTIMEZONE
TZID:Europe/Berlin
BEGIN:STANDARD
DTSTART:19701025T030000
TZOFFSETFROM:+0200
TZOFFSETTO:+0100
RRULE:FREQ=YEARLY;BYDAY=-1SU;BYMONTH=10
TZNAME:CET
END:STANDARD
BEGIN:DAYLIGHT
DTSTART:19700329T020000
TZOFFSETFROM:+0100
TZOFFSETTO:+0200
RRULE:FREQ=YEARLY;BYDAY=-1SU;BYMONTH=3
TZNAME:CEST
END:DAYLIGHT
END:VTIMEZONE
BEGIN:VEVENT
UID:20260516T100000-32102@evangelische-termine.de
DTSTAMP:20260420T062952Z
DESCRIPTION:\nKurzbeschreibung / Untertitel: Offbeat Weekend\nAusführliche 
 Beschreibung: Sledgehammer\nOffbeat Weekend mit Musik von Peter Gabriel u.
 a.\nPaula Schneider\, Voc\nAndreas Karthäuser\, Musikalische Leitung\nBitt
 e beachten Sie auch die morgige Vernstaltung.\nInformation und Anmeldung: 
 \nGemeindebüro der Kreuzkirchengemeinde\n+49 611 4504980\nkreuzkirchengeme
 inde.wiesbaden@ekhn.de\nVeranstaltungsort: Ev. Kreuzkirchengemeinde Wiesba
 den\nWalkmühltalanlagen 1\n65195 Wiesbaden
DTSTART;TZID=Europe/Berlin:20260516T100000
DTEND;TZID=Europe/Berlin:20260516T180000
LOCATION:Wiesbaden: Ev. Kreuzkirchengemeinde Wiesbaden
SUMMARY:Sledgehammer
URL:https://termine.ekhn.de/veranstaltung_im_detail32102.html
END:VEVENT
END:VCALENDAR
