BEGIN:VCALENDAR
VERSION:2.0
PRODID:-//evangelische-termine.de//NONSGML kigkonsult.se iCalcreator 2.18//
CALSCALE:GREGORIAN
METHOD:PUBLISH
X-WR-CALNAME:iCal Evangelische-Termine 20.04.2026
X-WR-CALDESC:iCalender von Evangelische-Termine (20.04.2026)
X-WR-TIMEZONE:Europe/Berlin
X-MS-OLK-FORCEINSPECTOROPEN:TRUE
BEGIN:VTIMEZONE
TZID:Europe/Berlin
BEGIN:STANDARD
DTSTART:19701025T030000
TZOFFSETFROM:+0200
TZOFFSETTO:+0100
RRULE:FREQ=YEARLY;BYDAY=-1SU;BYMONTH=10
TZNAME:CET
END:STANDARD
BEGIN:DAYLIGHT
DTSTART:19700329T020000
TZOFFSETFROM:+0100
TZOFFSETTO:+0200
RRULE:FREQ=YEARLY;BYDAY=-1SU;BYMONTH=3
TZNAME:CEST
END:DAYLIGHT
END:VTIMEZONE
BEGIN:VEVENT
UID:20260604T130000-32131@evangelische-termine.de
DTSTAMP:20260420T083957Z
DESCRIPTION:\nKurzbeschreibung / Untertitel: 'Mach Laut. Mach bunt. Mach mi
 t!' Fahr mit uns zum Jugendkirchentag nach Alsfeld!\nVeranstaltungsort: Ev
 angelisches Dekanat Ingelheim-Oppenheim\nAm Hahnenbusch\, 14b\n55268 Niede
 r-Olm\nDekanatsverwaltung\nTelefon 06136 92696-0\nE-Mail dekanat.ingelheim
 -oppenheim@ekhn.de\nwww.evangelisches-dekanat-ingelheim-oppenheim.de\nAusf
 ührliche Beschreibung: Mach laut. Mach bunt. Mach mit!\n\nSo lautet das Mo
 tto des nächsten Jugendkirchentages in Alsfeld. 4 Tage mit jeder Menge Spa
 ß erwarten dich! Der Jugendkirchentag wird von Jugendlichen für Jugendlich
 e aus der Evangelischen Kirche in Hessen und Nassau veranstaltet. \n\nMitw
 irken beim Jugendkirchentag als Helfer*in beim Oasenmobil\n\nDu möchtest n
 och ein bisschen mehr Action und hast Lust uns beim Oasenmobil und beim Ba
 uwagen zu unterstützen? Als Mitwirkende*r zahlst du nix und wir freuen uns
  über deine Unterstützung. Wir bieten dieses Jahr eine upcycling Aktion an
  und nähen mit Jugendlichen Beutel. Du lernst bei uns wie das funktioniert
  und wir laden dich vor dem Jugendkirchentag zu einem Nähworkshop ein. Zus
 ätzlich bietet unser Oasenmobil einiges an Spielmaterial\, das wir zur Ver
 fügung stellen können. Manche Spiele müssen angeleitet werden und auf unse
 r Material müssen wir natürlich auch ein Auge haben. Du merkst: wir brauch
 en DICH! Denn fleißige Hände werden auch im Bauwagen gebraucht. Der Bauwag
 en ist von der Evangelischen Jugend Alzey-Wöllstein und wir stehen direkt 
 nebeneinander auf dem Platz im Ehrenamtspark. Der Bauwagen dient auf dem J
 ugendkirchentag immer als Café. Dort kannst du dich als Barista erproben u
 nd leckere Limonaden verkaufen. Das Angebot steht den Besucher*innen freit
 ags und samstags von 11:00 bis 18:00 Uhr zur Verfügung.\n\nWir erstellen e
 inen Dienstplan mit Schichten für das Oasenmobil und den Bauwagen. Dort ka
 nnst du dich für jeden Tag für eine Schicht eintragen. Denn wichtig ist un
 s\, dass du auch freie Zeit hast\, um den Jugendkirchentag selbst erleben 
 zu können. \n\nMelde dich über unser Anmeldeformular an.\n\nUntergebracht 
 sind wir zusammen in einer der Quartiersschulen in Alsfeld\, dort übernach
 ten wir in Klassenräumen und es gibt auch ein Frühstück. Mittag- und Abend
 essen kannst du dir günstig an einem der Essenstände auf dem Jugendkirchen
 tagsgelände besorgen. Nimm deine Wasserflasche mit\, dann kannst du dir im
 mer wieder an kostenlosen Zapfstationen Wasser besorgen.\n\nRahmenbedingun
 gen:\n\nZeitraum: 04. Juni - 07. Juni 2026\nAlter: Jugendliche ab dem Konf
 irmationsalter\nPreis: Mitarbeitende bei einem Dekanatsprojekt fahren kost
 enlos mit\nAnmeldung: Ja\nBild Copyright: Volker Heuser\nInternetadresse: 
 https://kiju-dekanat-ingelheim-oppenheim.ekhn.de/angebote/jugendkirchentag
 \nForm der Veranstaltung: Präsenzveranstaltung\nVeranstalter: Fachreferat 
 Evangelische Jugend
DTSTART;TZID=Europe/Berlin:20260604T130000
DTEND;TZID=Europe/Berlin:20260607T140000
LOCATION:Nieder-Olm: Evangelisches Dekanat Ingelheim-Oppenheim
SUMMARY:Jugendkirchentag der EKHN - für Mitwirkende
URL:https://termine.ekhn.de/veranstaltung_im_detail32131.html
END:VEVENT
END:VCALENDAR
