BEGIN:VCALENDAR
VERSION:2.0
PRODID:-//evangelische-termine.de//NONSGML kigkonsult.se iCalcreator 2.18//
CALSCALE:GREGORIAN
METHOD:PUBLISH
X-WR-CALNAME:iCal Evangelische-Termine 20.04.2026
X-WR-CALDESC:iCalender von Evangelische-Termine (20.04.2026)
X-WR-TIMEZONE:Europe/Berlin
X-MS-OLK-FORCEINSPECTOROPEN:TRUE
BEGIN:VTIMEZONE
TZID:Europe/Berlin
BEGIN:STANDARD
DTSTART:19701025T030000
TZOFFSETFROM:+0200
TZOFFSETTO:+0100
RRULE:FREQ=YEARLY;BYDAY=-1SU;BYMONTH=10
TZNAME:CET
END:STANDARD
BEGIN:DAYLIGHT
DTSTART:19700329T020000
TZOFFSETFROM:+0100
TZOFFSETTO:+0200
RRULE:FREQ=YEARLY;BYDAY=-1SU;BYMONTH=3
TZNAME:CEST
END:DAYLIGHT
END:VTIMEZONE
BEGIN:VEVENT
UID:20260421T120000-32154@evangelische-termine.de
DTSTAMP:20260420T093415Z
DESCRIPTION:\nFür Engagierte: Ja\nEngagiertengruppe: Beruflich Mitarbeitend
 e\; Erziehung und Bildung\; Ehrenamt\nFormat der Veranstaltung: Onlinevera
 nstaltung\nAusführliche Beschreibung: Fühlen auch Sie sich überfordert\, s
 ich mit den verschiedenen Anlageformen zur privaten Rentenabsicherung zu b
 eschäftigen? Dabei ist es so wichtig\, eine zusätzliche Altersvorsorge in 
 die eigene Hand zu nehmen\, sich zu informieren und zu handeln. Insbesonde
 re bei Frauen gibt es immer wieder große Finanzlücken durch Erziehungszeit
 en etc. Doch auch durch kleine Sparraten kann ein zweites Standbein risiko
 arm aufgebaut werden.\nDieser Fortbildung möchte Sie leicht verständlich ü
 ber Fonds und ETF informieren. Was genau ist das und wie funktionieren sie
 ? Was unterscheidet sie von gemanagten Fonds?\nDiese und weitere Fragen we
 rden im Rahmen eines Vortrags erläutert. Konkrete praktische Tipps für den
  Weg hin zur Depoteröffnung runden den Input ab. Danach gibt es Raum für N
 achfragen und Diskussion. Es sind keine Vorkenntnisse erforderlich.\nZiel 
 der Fortbildung ist es\, Sie als Fachkraft in Ihrer Arbeit mit jungen Fami
 lien sprachfähig zu machen\, um vor allem Mütter und Eltern im Gespräch er
 mutigen zu können\, sich mit diesem Finanzthema auseinanderzusetzen und Ve
 rständnisängste abzubauen.  \nDie Fortbildungsreihe eignet sich sowohl als
  Grundlagenfortbildung als auch zur Auffrischung von bestehendem Wissen. S
 ie richtet sich an Fachkräfte (Erzieher_innen\, Pädagog_innen\, Lehrkräfte
 \, Gemeindepädagog_innen etc..) und Ehrenamtliche (bspw. in Eltern-Kind-Gr
 uppen) sowie Interessierte.\nInternetadresse: https://www.zbg-ekhn.de/vera
 nstaltungen/kurs/Online-Altersvorsorge-mit-Fonds-und-ETFs/2026-D-016\nKost
 en: 15 €\nVeranstalter: Marie-Luise Fahr\nTelefonnummer bei Rückfragen zur
  Veranstaltung: 06151 6690 195
DTSTART;TZID=Europe/Berlin:20260421T120000
DTEND;TZID=Europe/Berlin:20260421T133000
LOCATION:: Ohne Ort
SUMMARY:Online: Altersvorsorge mit Fonds und ETF – Grundlagenwissen für ein
 e eigenverantwortliche Absicherung
URL:https://termine.ekhn.de/veranstaltung_im_detail32154.html
END:VEVENT
END:VCALENDAR
