BEGIN:VCALENDAR
VERSION:2.0
PRODID:-//evangelische-termine.de//NONSGML kigkonsult.se iCalcreator 2.18//
CALSCALE:GREGORIAN
METHOD:PUBLISH
X-WR-CALNAME:iCal Evangelische-Termine 21.04.2026
X-WR-CALDESC:iCalender von Evangelische-Termine (21.04.2026)
X-WR-TIMEZONE:Europe/Berlin
X-MS-OLK-FORCEINSPECTOROPEN:TRUE
BEGIN:VTIMEZONE
TZID:Europe/Berlin
BEGIN:STANDARD
DTSTART:19701025T030000
TZOFFSETFROM:+0200
TZOFFSETTO:+0100
RRULE:FREQ=YEARLY;BYDAY=-1SU;BYMONTH=10
TZNAME:CET
END:STANDARD
BEGIN:DAYLIGHT
DTSTART:19700329T020000
TZOFFSETFROM:+0100
TZOFFSETTO:+0200
RRULE:FREQ=YEARLY;BYDAY=-1SU;BYMONTH=3
TZNAME:CEST
END:DAYLIGHT
END:VTIMEZONE
BEGIN:VEVENT
UID:20260827T120000-32155@evangelische-termine.de
DTSTAMP:20260421T141239Z
DESCRIPTION:\nFür Engagierte: Ja\nEngagiertengruppe: Beruflich Mitarbeitend
 e\; Gemeindepädagogik\; Erziehung und Bildung\; Ehrenamt\nFormat der Veran
 staltung: Onlineveranstaltung\nAusführliche Beschreibung: Fühlen auch Sie 
 sich überfordert\, sich mit den verschiedenen Anlageformen zur privaten Re
 ntenabsicherung zu beschäftigen? Dabei ist es so wichtig\, eine zusätzlich
 e Altersvorsorge in die eigene Hand zu nehmen\, sich zu informieren und zu
  handeln. Insbesondere bei Frauen gibt es immer wieder große Finanzlücken 
 durch Erziehungszeiten etc. Doch auch durch kleine Sparraten kann ein zwei
 tes Standbein risikoarm aufgebaut werden.\nDieser Fortbildung möchte Sie l
 eicht verständlich über Fonds und ETF informieren. Was genau ist das und w
 ie funktionieren sie? Was unterscheidet sie von gemanagten Fonds?\nDiese u
 nd weitere Fragen werden im Rahmen eines Vortrags erläutert. Konkrete prak
 tische Tipps für den Weg hin zur Depoteröffnung runden den Input ab. Danac
 h gibt es Raum für Nachfragen und Diskussion. Es sind keine Vorkenntnisse 
 erforderlich.\nZiel der Fortbildung ist es\, Sie als Fachkraft in Ihrer Ar
 beit mit jungen Familien sprachfähig zu machen\, um vor allem Mütter und E
 ltern im Gespräch ermutigen zu können\, sich mit diesem Finanzthema ausein
 anderzusetzen und Verständnisängste abzubauen.\nInternetadresse: https://w
 ww.zbg-ekhn.de/veranstaltungen/kurs/Online-Altersvorsorge-mit-Fonds-und-ET
 Fs/2026-D-017\nKosten: 15 €\nVeranstalter: Marie-Luise Fahr\, Dr. Jennifer
  Achten-Gozdowski\nTelefonnummer bei Rückfragen zur Veranstaltung: 06151 6
 690 195
DTSTART;TZID=Europe/Berlin:20260827T120000
DTEND;TZID=Europe/Berlin:20260827T133000
LOCATION:: Ohne Ort
SUMMARY:Online: Altersvorsorge mit Fonds und ETF – Grundlagenwissen für ein
 e eigenverantwortliche Absicherung
URL:https://termine.ekhn.de/veranstaltung_im_detail32155.html
END:VEVENT
END:VCALENDAR
