BEGIN:VCALENDAR
VERSION:2.0
PRODID:-//evangelische-termine.de//NONSGML kigkonsult.se iCalcreator 2.18//
CALSCALE:GREGORIAN
METHOD:PUBLISH
X-WR-CALNAME:iCal Evangelische-Termine 20.04.2026
X-WR-CALDESC:iCalender von Evangelische-Termine (20.04.2026)
X-WR-TIMEZONE:Europe/Berlin
X-MS-OLK-FORCEINSPECTOROPEN:TRUE
BEGIN:VTIMEZONE
TZID:Europe/Berlin
BEGIN:STANDARD
DTSTART:19701025T030000
TZOFFSETFROM:+0200
TZOFFSETTO:+0100
RRULE:FREQ=YEARLY;BYDAY=-1SU;BYMONTH=10
TZNAME:CET
END:STANDARD
BEGIN:DAYLIGHT
DTSTART:19700329T020000
TZOFFSETFROM:+0100
TZOFFSETTO:+0200
RRULE:FREQ=YEARLY;BYDAY=-1SU;BYMONTH=3
TZNAME:CEST
END:DAYLIGHT
END:VTIMEZONE
BEGIN:VEVENT
UID:20260305T193000-32198@evangelische-termine.de
DTSTAMP:20260420T085114Z
DESCRIPTION:\nVeranstaltungsort: Pauluskirche\nNiebergallweg 20\n64285 Darm
 stadt\nKurzbeschreibung / Untertitel: Frieden zwischen dir und mir (Pfrn. 
 Ruth Sauerwein)\nAusführliche Beschreibung: Wir laden zu vier Terminen ein
 \, bei denen wir uns durch Impulse und in Gesprächen mit dem Thema Frieden
  auseinandersetzen wollen. Das Thema erreicht uns im Alltag in einer Inten
 sität wie schon lange nicht mehr. Auch die Bibel spricht an vielen Stellen
  von Frieden. Was meinen wir\, wenn wir von Frieden sprechen? Können wir a
 us den alten Texten etwas für unseren Alltag lernen? Durch vier Schwerpunk
 te wollen wir uns mit solchen Fragen in der Passionszeit auseinandersetzen
  und ins Gespräch kommen.\n\nStreit\, Schuld\, Vergebung und Versöhnung: K
 ann ich meinem nächsten\nvergeben? Muss ich als Christ*in vergeben? Gehört
  zur Vergebung auch Reue?\nInternetadresse: https://bkcdn.ekhn.de/data/217
 49-kg-petrus-darmstadt/aktuelles/Einladung_Gespr%C3%A4chsabende_Frieden_20
 26_Stand_29012026.pdf
DTSTART;TZID=Europe/Berlin:20260305T193000
DTEND;TZID=Europe/Berlin:20260305T210000
LOCATION:Darmstadt: Pauluskirche
SUMMARY:Gesprächsabende zum Thema Frieden
URL:https://termine.ekhn.de/veranstaltung_im_detail32198.html
END:VEVENT
END:VCALENDAR
