BEGIN:VCALENDAR
VERSION:2.0
PRODID:-//evangelische-termine.de//NONSGML kigkonsult.se iCalcreator 2.18//
CALSCALE:GREGORIAN
METHOD:PUBLISH
X-WR-CALNAME:iCal Evangelische-Termine 21.04.2026
X-WR-CALDESC:iCalender von Evangelische-Termine (21.04.2026)
X-WR-TIMEZONE:Europe/Berlin
X-MS-OLK-FORCEINSPECTOROPEN:TRUE
BEGIN:VTIMEZONE
TZID:Europe/Berlin
BEGIN:STANDARD
DTSTART:19701025T030000
TZOFFSETFROM:+0200
TZOFFSETTO:+0100
RRULE:FREQ=YEARLY;BYDAY=-1SU;BYMONTH=10
TZNAME:CET
END:STANDARD
BEGIN:DAYLIGHT
DTSTART:19700329T020000
TZOFFSETFROM:+0100
TZOFFSETTO:+0200
RRULE:FREQ=YEARLY;BYDAY=-1SU;BYMONTH=3
TZNAME:CEST
END:DAYLIGHT
END:VTIMEZONE
BEGIN:VEVENT
UID:20260929T100000-32274@evangelische-termine.de
DTSTAMP:20260421T122951Z
DESCRIPTION:\nFür Engagierte: Ja\nEngagiertengruppe: Beruflich Mitarbeitend
 e\; Gemeindepädagogik\; Erziehung und Bildung\; Ehrenamt\nVeranstaltungsor
 t: Zentrum Bildung und Gesellschaft der EKHN\, Standort Darmstadt\nHeinric
 hstraße 173\n64287 Darmstadt\nPKW:\nBitte beachten Sie\, dass auf bestimmt
 en Abschnitten der Heinrichstraße ein Diesel-Fahrverbot herrscht. \n[östli
 che Hügelstraße und in der Heinrichstraße im Abschnitt zwischen Heidelberg
 er Straße und Karlstraße\, betroffen sind Dieselfahrzeuge der Euro-Normen 
 1 bis 5 und Ottofahrzeuge („Benziner“) der Euro-Normen 0 bis 2]\n\nDie Anr
 eise mit dem ÖPNV ist empfehlenswert\, da es leider nur begrenzt Parkmögli
 chkeiten im Paulusviertel sowie kostenpflichtige Parkhäuser in der Innenst
 adt (bspw. Justus-Liebig-Garage\, Holzstr. 6) gibt.\nIm angrenzenden Woogs
 viertel gilt Parkraumbewirtschaftung.\n\nÖPNV:\nMöglichkeit 1: Tram Linie 
 2\, 5 oder 9 bis Haltestelle „Herdweg“\, ca. 50 m zurück entgegen der Fahr
 trichtung laufen\, die Nieder-Ramstädter-Straße überqueren und dann rechts
  abbiegen in den Herdweg\, ca. 450 m Fußweg\nMöglichkeit 2: Buslinie L Ric
 htung TU-Lichtwiese/Campus (Einstieg bspw. Luisenplatz oder Schloss) bis H
 altestelle „Beckstraße“\, in Fahrtrichtung ca. 200 m laufen\, rechts abbie
 gen in Inselstraße\, ca. 200 m geradeaus\nFormat der Veranstaltung: Präsen
 zveranstaltung\nAusführliche Beschreibung: Gemeinsam zu tragfähigen Entsch
 eidungen kommen\nWie können Gruppen\, Teams und Organisationen gute Entsch
 eidungen treffen\, die wirksam sind und von allen getragen werden?\nDie So
 ziokratie bietet hierfür ein erprobtes Organisations- und Entscheidungsmod
 ell\, das Beteiligung\, Transparenz und klare Verantwortlichkeiten miteina
 nder verbindet.\nIm Mittelpunkt dieses Basiskurses steht die Konsent-Moder
 ation – das zentrale Entscheidungsprinzip der Soziokratie. Die Teilnehmend
 en lernen\, wie Entscheidungen nicht im Konsens\, sondern im Konsent getro
 ffen werden: handlungsorientiert\, einwandbasiert und auf gemeinsame Ziele
  ausgerichtet.\nDer Kurs verbindet theoretische Grundlagen mit intensivem 
 praktischem Erleben. Die Teilnehmenden erfahren die Konsent-Moderation sow
 ohl aus der Perspektive von Kreismitgliedern als auch in der Rolle der mod
 erierenden Person. Reflexion\, Austausch und die Übertragung auf die eigen
 e Praxis sind dabei feste Bestandteile.\n\nInhalte\nFormen der Entscheidun
 gsfindung – was kennen wir\, was wirkt?\nDie vier Basisprinzipien der Sozi
 okratie nach Gerald Endenburg\nKonsentprinzip\nKreisprinzip\nDoppelte Verk
 nüpfung\nOffene Wahl\nHaltung und Geschichte der Soziokratie\nGestaltung w
 irksamer Meetings\nsoziokratische Kreisversammlung\nRollen\, Agenda und St
 ruktur\nKonsent-Moderation in der Praxis\nModerationsschritte\nUmgang mit 
 Einwänden\nSteuerung von Spannungen und schwierigen Situationen\nArbeit an
  eigenen Praxisbeispielen\nAustausch und Vernetzung im Kontext der eigenen
  Organisation\n\nZielgruppe\nDie Fortbildung richtet sich an Fachkräfte au
 s\nBildung und Erwachsenenbildung\nBeratung\, Supervision und Coaching\nKi
 rche\, Diakonie und zivilgesellschaftlichen Organisationen\nLeitung\, Koor
 dination und Projektarbeit\nVorkenntnisse in Soziokratie sind nicht erford
 erlich.\n\nArbeitsweise\nkurze theoretische Inputs\nerfahrungsorientiertes
  Lernen\npraktische Übungen und Moderationstraining\nReflexion im Plenum u
 nd in Kleingruppen\nhohe Anwendungsorientierung für den eigenen Arbeitskon
 text\nInternetadresse: https://www.zbg-ekhn.de/veranstaltungen/kurs/Praese
 nz-Soziokratie-Basiskurs-Konsent-Moderation/2026-D-009\nKosten: 230 €\nVer
 anstalter: Mike Breitbart\nTelefonnummer bei Rückfragen zur Veranstaltung:
  06151 6690 198
DTSTART;TZID=Europe/Berlin:20260929T100000
DTEND;TZID=Europe/Berlin:20260930T170000
LOCATION:Darmstadt: Zentrum Bildung und Gesellschaft der EKHN\, Standort Da
 rmstadt
SUMMARY:Präsenz: Soziokratie Basiskurs – Konsent-Moderation
URL:https://termine.ekhn.de/veranstaltung_im_detail32274.html
END:VEVENT
END:VCALENDAR
