BEGIN:VCALENDAR
VERSION:2.0
PRODID:-//evangelische-termine.de//NONSGML kigkonsult.se iCalcreator 2.18//
CALSCALE:GREGORIAN
METHOD:PUBLISH
X-WR-CALNAME:iCal Evangelische-Termine 21.04.2026
X-WR-CALDESC:iCalender von Evangelische-Termine (21.04.2026)
X-WR-TIMEZONE:Europe/Berlin
X-MS-OLK-FORCEINSPECTOROPEN:TRUE
BEGIN:VTIMEZONE
TZID:Europe/Berlin
BEGIN:STANDARD
DTSTART:19701025T030000
TZOFFSETFROM:+0200
TZOFFSETTO:+0100
RRULE:FREQ=YEARLY;BYDAY=-1SU;BYMONTH=10
TZNAME:CET
END:STANDARD
BEGIN:DAYLIGHT
DTSTART:19700329T020000
TZOFFSETFROM:+0100
TZOFFSETTO:+0200
RRULE:FREQ=YEARLY;BYDAY=-1SU;BYMONTH=3
TZNAME:CEST
END:DAYLIGHT
END:VTIMEZONE
BEGIN:VEVENT
UID:20260901T093000-32278@evangelische-termine.de
DTSTAMP:20260421T141239Z
DESCRIPTION:\nFür Engagierte: Ja\nEngagiertengruppe: Beruflich Mitarbeitend
 e\; Gemeindepädagogik\; Erziehung und Bildung\; Ehrenamt\nVeranstaltungsor
 t: Zentrum Bildung und Gesellschaft der EKHN\, Standort Mainz\nAlbert-Schw
 eitzer-Straße 113 - 115\n55128 Mainz\nFormat der Veranstaltung: Präsenzver
 anstaltung\nAusführliche Beschreibung: Digitale Assistenten\, Bildgenerato
 ren und Text-KI gehören längst zum Alltag. Für die Bildungsarbeit eröffnet
  das neue Chancen\, bringt aber auch rechtliche und ethische Herausforderu
 ngen mit sich. Die Europäische KI-Verordnung (AI Act) verpflichtet dazu\, 
 dass Fachkräfte über ausreichende KI-Kompetenz verfügen: also ein grundleg
 endes Verständnis der Technik\, die Fähigkeit zur kritischen Reflexion\, e
 thische und gesellschaftliche Auswirkungen sowie praktische Anwendungskomp
 etenzen.\nDie zweitägige Fortbildung bietet einen praxisnahen und abwechsl
 ungsreichen Einstieg in das Thema Künstliche Intelligenz\, der an die Anfo
 rderungen des EU AI Actes ausgerichtet ist. \n\nAm ersten Tag werden die T
 eilnehmenden schrittweise in zentrale Grundlagen eingeführt – von rechtlic
 hen Fragen zu Datenschutz und Urheberrecht bis hin zu Strategien für diskr
 iminierungssensibles Prompting. Anschließend folgen praxisorientierte Übun
 gen mit Text-\, Bild- und Sprach-KI\, die in Kleingruppen ausprobiert und 
 reflektiert werden.\n\nDer zweite Tag widmet sich ethischen Fragen und der
  gesellschaftlichen Dimensionen: Wertethik und -systeme von KI\, Nachhalti
 gkeit und koloniale Strukturen\, die Herausforderung durch Deepfakes sowie
  ihre Bedeutung für demokratische Prozesse. Ergänzt wird dies durch eine k
 reative Medienarbeit mit KI\, die den Transfer in die eigene Praxis erleic
 htert.\n\nDie Veranstaltung beinhaltet einen Mittagsimbiss vor Ort. Eine U
 nterkunft ist NICHT Teil des Angebots!\n\nKursdauer: 2 Tage in Präsenz\nTa
 g 1: 09.30 – 16.30 Uhr\nTag 2: 09.00 – 15.00 Uhr\nInternetadresse: https:/
 /www.zbg-ekhn.de/veranstaltungen/kurs/Praesenz-KI-Kompetenz-Kuenstliche-In
 telligenz-verstehen-und-01-02092026/2026-D-032\nKosten: 130 €\nVeranstalte
 r: Tobias Albers-Heinemann\nTelefonnummer bei Rückfragen zur Veranstaltung
 : 06131 28744 58
DTSTART;TZID=Europe/Berlin:20260901T093000
DTEND;TZID=Europe/Berlin:20260902T150000
LOCATION:Mainz: Zentrum Bildung und Gesellschaft der EKHN\, Standort Mainz
SUMMARY:Präsenz: KI-Kompetenz: Künstliche Intelligenz verstehen und kompete
 nt nutzen - 01.-02.09.2026
URL:https://termine.ekhn.de/veranstaltung_im_detail32278.html
END:VEVENT
END:VCALENDAR
