BEGIN:VCALENDAR
VERSION:2.0
PRODID:-//evangelische-termine.de//NONSGML kigkonsult.se iCalcreator 2.18//
CALSCALE:GREGORIAN
METHOD:PUBLISH
X-WR-CALNAME:iCal Evangelische-Termine 21.04.2026
X-WR-CALDESC:iCalender von Evangelische-Termine (21.04.2026)
X-WR-TIMEZONE:Europe/Berlin
X-MS-OLK-FORCEINSPECTOROPEN:TRUE
BEGIN:VTIMEZONE
TZID:Europe/Berlin
BEGIN:STANDARD
DTSTART:19701025T030000
TZOFFSETFROM:+0200
TZOFFSETTO:+0100
RRULE:FREQ=YEARLY;BYDAY=-1SU;BYMONTH=10
TZNAME:CET
END:STANDARD
BEGIN:DAYLIGHT
DTSTART:19700329T020000
TZOFFSETFROM:+0100
TZOFFSETTO:+0200
RRULE:FREQ=YEARLY;BYDAY=-1SU;BYMONTH=3
TZNAME:CEST
END:DAYLIGHT
END:VTIMEZONE
BEGIN:VEVENT
UID:20260918T100000-32298@evangelische-termine.de
DTSTAMP:20260421T090905Z
DESCRIPTION:\nKurzbeschreibung / Untertitel: Aktionstag für Konfirmandengru
 ppen im Dekanat Ingelheim-Oppenheim\nVeranstaltungsort: Evangelisches Deka
 nat Ingelheim-Oppenheim\nAm Hahnenbusch\, 14b\n55268 Nieder-Olm\nDekanatsv
 erwaltung\nTelefon 06136 92696-0\nE-Mail dekanat.ingelheim-oppenheim@ekhn.
 de\nwww.evangelisches-dekanat-ingelheim-oppenheim.de\nAusführliche Beschre
 ibung: Sie befinden sich hier:\n\n    Termine\n\nKonfi-Adventure\n\n17.09.
 2026\, Oppenheim\nOrt: Landskronruine\, Dalbergerstraße 49\, 55276 Oppenhe
 im\n\nSAVE THE DATE!!!!\n\nDas Konfi-Adventure ist ein erlebnispädagogisch
 er Aktionstag für alle Konfirmand*innen des Dekanates. Es findet an zwei T
 agen statt. An jedem Tag können maximal 12 Gruppen teilnehmen. Die Idee is
 t\, dass sich die Gruppen gemeinsam vielfältigen Herausforderungen stellen
  und die Teilnehmer*innen sich selbst und die Gruppe dabei besser kennenle
 rnen. Diese gemeinsame Erfahrung soll die Gruppe durch die Konfirmandenzei
 t tragen und Gemeinschaft erlebbar machen. Die Gruppen durchlaufen einen P
 arcours mit verschiedenen Stationen. Die Aufgaben beinhalten Geschicklichk
 eit\, Höhe\, Spannung\, knifflige Lösungen - aber vor allen Teamarbeit. Am
  Ende bekommen die besten Teams sogar eine Auszeichnung. Verliehen wird de
 r Konfi-Adventure-Cup für die Leistung der Gruppen und der Fairness-Pokal 
 für besonderes soziales Miteinander.\n\nTermine 2026: Donnerstag\, 17. und
  Freitag\, 18.09.2026\n\nBritta Nicolay\n06136-9269632\nbritta.nicolay@ekh
 n.de\nAnmeldung: Ja\nBild Copyright: Britta Nicolay\nForm der Veranstaltun
 g: Bitte auswählen\nVeranstalter: Fachreferat Evangelische Jugend
DTSTART;TZID=Europe/Berlin:20260918T100000
DTEND;TZID=Europe/Berlin:20260918T153000
LOCATION:Nieder-Olm: Evangelisches Dekanat Ingelheim-Oppenheim
SUMMARY:Konfiadventure
URL:https://termine.ekhn.de/veranstaltung_im_detail32298.html
END:VEVENT
END:VCALENDAR
