BEGIN:VCALENDAR
VERSION:2.0
PRODID:-//evangelische-termine.de//NONSGML kigkonsult.se iCalcreator 2.18//
CALSCALE:GREGORIAN
METHOD:PUBLISH
X-WR-CALNAME:iCal Evangelische-Termine 22.04.2026
X-WR-CALDESC:iCalender von Evangelische-Termine (22.04.2026)
X-WR-TIMEZONE:Europe/Berlin
X-MS-OLK-FORCEINSPECTOROPEN:TRUE
BEGIN:VTIMEZONE
TZID:Europe/Berlin
BEGIN:STANDARD
DTSTART:19701025T030000
TZOFFSETFROM:+0200
TZOFFSETTO:+0100
RRULE:FREQ=YEARLY;BYDAY=-1SU;BYMONTH=10
TZNAME:CET
END:STANDARD
BEGIN:DAYLIGHT
DTSTART:19700329T020000
TZOFFSETFROM:+0100
TZOFFSETTO:+0200
RRULE:FREQ=YEARLY;BYDAY=-1SU;BYMONTH=3
TZNAME:CEST
END:DAYLIGHT
END:VTIMEZONE
BEGIN:VEVENT
UID:20260529T110000-32651@evangelische-termine.de
DTSTAMP:20260422T143500Z
DESCRIPTION:\nFür Engagierte: Nein\nVeranstaltungsort: Kindergarten Bahnstr
 aße\nBahnstraße 3\n65835 Liederbach am Taunus\nFormat der Veranstaltung: P
 räsenzveranstaltung\nAusführliche Beschreibung: Pfarrerin Barbara Helling 
 feiert mit Kindern\, Erzieherinnen und Erziehern des Kindergarten Bahnstra
 ße gemeinsam einen kindgerechten Gottesdienst.\nBild Alttext: Blick auf de
 n Eingangsbereich des Kindergartens Bahnstraße mit bunter Wandgestaltung.
 \nVeranstalter: Ev. Kirchengemeinde Liederbach
DTSTART;TZID=Europe/Berlin:20260529T110000
DTEND;TZID=Europe/Berlin:20260529T114500
LOCATION:Liederbach am Taunus: Kindergarten Bahnstraße
SUMMARY:Kindergartengottesdienst
URL:https://termine.ekhn.de/veranstaltung_im_detail32651.html
END:VEVENT
END:VCALENDAR
