BEGIN:VCALENDAR
VERSION:2.0
PRODID:-//evangelische-termine.de//NONSGML kigkonsult.se iCalcreator 2.18//
CALSCALE:GREGORIAN
METHOD:PUBLISH
X-WR-CALNAME:iCal Evangelische-Termine 22.04.2026
X-WR-CALDESC:iCalender von Evangelische-Termine (22.04.2026)
X-WR-TIMEZONE:Europe/Berlin
X-MS-OLK-FORCEINSPECTOROPEN:TRUE
BEGIN:VTIMEZONE
TZID:Europe/Berlin
BEGIN:STANDARD
DTSTART:19701025T030000
TZOFFSETFROM:+0200
TZOFFSETTO:+0100
RRULE:FREQ=YEARLY;BYDAY=-1SU;BYMONTH=10
TZNAME:CET
END:STANDARD
BEGIN:DAYLIGHT
DTSTART:19700329T020000
TZOFFSETFROM:+0100
TZOFFSETTO:+0200
RRULE:FREQ=YEARLY;BYDAY=-1SU;BYMONTH=3
TZNAME:CEST
END:DAYLIGHT
END:VTIMEZONE
BEGIN:VEVENT
UID:20260525T110000-32660@evangelische-termine.de
DTSTAMP:20260422T143441Z
DESCRIPTION:\nFür Engagierte: Nein\nVeranstaltungsort: Katholische Kircheng
 emeinde St. Marien\nWachenheimer Straße 58\n65835 Liederbach am Taunus\nFo
 rmat der Veranstaltung: Präsenzveranstaltung\nAusführliche Beschreibung: E
 s ist eine liebgewonnene Tradition\, dass die evangelische und katholische
  Kirchengemeinden in Liederbach am Pfingstmontag gemeinsam Gottesdienst fe
 iern. Dieses Jahr feiern wir den Gottesdienst in der katholischen Kirche S
 t. Marien. Herzliche Einladung an alle mitzufeiern.\nBild Alttext: Kirchen
 turm zwischen hohen Bäumen\nVeranstalter: Ev. und kath. Kirchengemeinden L
 iederbach
DTSTART;TZID=Europe/Berlin:20260525T110000
DTEND;TZID=Europe/Berlin:20260525T120000
LOCATION:Liederbach am Taunus: Katholische Kirchengemeinde St. Marien
SUMMARY:Ökumenischer Gottesdienst am Pfingstmontag
URL:https://termine.ekhn.de/veranstaltung_im_detail32660.html
END:VEVENT
END:VCALENDAR
