BEGIN:VCALENDAR
VERSION:2.0
PRODID:-//evangelische-termine.de//NONSGML kigkonsult.se iCalcreator 2.18//
CALSCALE:GREGORIAN
METHOD:PUBLISH
X-WR-CALNAME:iCal Evangelische-Termine 25.04.2026
X-WR-CALDESC:iCalender von Evangelische-Termine (25.04.2026)
X-WR-TIMEZONE:Europe/Berlin
X-MS-OLK-FORCEINSPECTOROPEN:TRUE
BEGIN:VTIMEZONE
TZID:Europe/Berlin
BEGIN:STANDARD
DTSTART:19701025T030000
TZOFFSETFROM:+0200
TZOFFSETTO:+0100
RRULE:FREQ=YEARLY;BYDAY=-1SU;BYMONTH=10
TZNAME:CET
END:STANDARD
BEGIN:DAYLIGHT
DTSTART:19700329T020000
TZOFFSETFROM:+0100
TZOFFSETTO:+0200
RRULE:FREQ=YEARLY;BYDAY=-1SU;BYMONTH=3
TZNAME:CEST
END:DAYLIGHT
END:VTIMEZONE
BEGIN:VEVENT
UID:20260823T150000-32900@evangelische-termine.de
DTSTAMP:20260425T115732Z
DESCRIPTION:\nFür Engagierte: Nein\nVeranstaltungsort: Geistliches Zentrum 
 Nieder-Weisel\nJohanniterstraße 7\n35510 Butzbach\nFormat der Veranstaltun
 g: Präsenzveranstaltung\nKurzbeschreibung / Untertitel: Wenn Steine sprech
 en (könnten)\nAusführliche Beschreibung: Nieder-Weisel hat eine bewegte Ge
 schichte\, die auch in steinernen Denkmälern Ausdruck findet. Wir begeben 
 uns auf einen Weg vielfältiger weltlicher und spiritueller Entdeckungen. D
 er jüdisch-christliche Rundgang durch Nieder-Weisel beginnt am Alten Ratha
 us\, mit dem Erzählen der Siedlungsgeschichte. Die benachbarte evangelisch
 e Kirche erinnert an die frühe Christianisierung des Dorfes. Im Weitergehe
 n kommen wir an die Stelle\, wo bis 1938 die Synagoge der kleinen jüdische
 n Gemeinde stand. Hier erfahren wir mehr über jüdisches Leben in Nieder-We
 isel im 19. und 20. Jahrhundert\, wovon auch der alte jüdische Friedhof Ze
 ugnis gibt. Die Führung findet mit einem jüdischen und einem christlichen 
 Gebet in der romanischen Komturkirche auf dem Gelände des Geistlichen Zent
 rums der Johanniter seinen Abschluss. Dieser Rundgang möchte ein Beitrag f
 ür ein wertschätzendes und achtsames Miteinander der Geschwisterreligionen
  Judentum und Christentum sein. \n\nLeitung: Chasan Leah Frey-Rabine\, jüd
 ische Kantorin\; Johannes Misterek\, Pfarrer am Geistlichen Zentrum\; Pfar
 rer i. R. Matthias Gärtner\n\nTreffpunkt: Ordenshaus der Johanniter\, Joha
 nniterstraße 7\, 35510 Butzbach\n\nAnmeldung 18. Mai 2025\, TN-Zahl: 7–25 
 Personen\nInternetadresse: http://www.geistliches-zentrum-nieder-weisel.de
 \nKosten: Spende willkommen\nVeranstalter: Geistliches Zentrum Nieder-Weis
 el\nTelefonnummer bei Rückfragen zur Veranstaltung: 06033 749246
DTSTART;TZID=Europe/Berlin:20260823T150000
DTEND;TZID=Europe/Berlin:20260823T180000
LOCATION:Butzbach: Geistliches Zentrum Nieder-Weisel
SUMMARY:Jüdisch-christlicher Rundgang in Nieder-Weisel :: Wenn Steine sprec
 hen (könnten)
URL:https://termine.ekhn.de/veranstaltung_im_detail32900.html
END:VEVENT
END:VCALENDAR
