BEGIN:VCALENDAR
VERSION:2.0
PRODID:-//evangelische-termine.de//NONSGML kigkonsult.se iCalcreator 2.18//
CALSCALE:GREGORIAN
METHOD:PUBLISH
X-WR-CALNAME:iCal Evangelische-Termine 21.04.2026
X-WR-CALDESC:iCalender von Evangelische-Termine (21.04.2026)
X-WR-TIMEZONE:Europe/Berlin
X-MS-OLK-FORCEINSPECTOROPEN:TRUE
BEGIN:VTIMEZONE
TZID:Europe/Berlin
BEGIN:STANDARD
DTSTART:19701025T030000
TZOFFSETFROM:+0200
TZOFFSETTO:+0100
RRULE:FREQ=YEARLY;BYDAY=-1SU;BYMONTH=10
TZNAME:CET
END:STANDARD
BEGIN:DAYLIGHT
DTSTART:19700329T020000
TZOFFSETFROM:+0100
TZOFFSETTO:+0200
RRULE:FREQ=YEARLY;BYDAY=-1SU;BYMONTH=3
TZNAME:CEST
END:DAYLIGHT
END:VTIMEZONE
BEGIN:VEVENT
UID:20260814T140000-33778@evangelische-termine.de
DTSTAMP:20260421T141207Z
DESCRIPTION:\nFür Engagierte: Ja\nVeranstaltungsort: Zentrum Bildung und Ge
 sellschaft der EKHN\, Standort Darmstadt\nHeinrichstraße 173\n64287 Darmst
 adt\nPKW:\nBitte beachten Sie\, dass auf bestimmten Abschnitten der Heinri
 chstraße ein Diesel-Fahrverbot herrscht. \n[östliche Hügelstraße und in de
 r Heinrichstraße im Abschnitt zwischen Heidelberger Straße und Karlstraße\
 , betroffen sind Dieselfahrzeuge der Euro-Normen 1 bis 5 und Ottofahrzeuge
  („Benziner“) der Euro-Normen 0 bis 2]\n\nDie Anreise mit dem ÖPNV ist emp
 fehlenswert\, da es leider nur begrenzt Parkmöglichkeiten im Paulusviertel
  sowie kostenpflichtige Parkhäuser in der Innenstadt (bspw. Justus-Liebig-
 Garage\, Holzstr. 6) gibt.\nIm angrenzenden Woogsviertel gilt Parkraumbewi
 rtschaftung.\n\nÖPNV:\nMöglichkeit 1: Tram Linie 2\, 5 oder 9 bis Halteste
 lle „Herdweg“\, ca. 50 m zurück entgegen der Fahrtrichtung laufen\, die Ni
 eder-Ramstädter-Straße überqueren und dann rechts abbiegen in den Herdweg\
 , ca. 450 m Fußweg\nMöglichkeit 2: Buslinie L Richtung TU-Lichtwiese/Campu
 s (Einstieg bspw. Luisenplatz oder Schloss) bis Haltestelle „Beckstraße“\,
  in Fahrtrichtung ca. 200 m laufen\, rechts abbiegen in Inselstraße\, ca. 
 200 m geradeaus\nFormat der Veranstaltung: Präsenzveranstaltung\nKurzbesch
 reibung / Untertitel: Mit Räumen ins Gespräch\nAusführliche Beschreibung: 
 Kirchenpädagogik bringt Menschen und sakrale Räume zusammen. Als Kirchenfü
 hrer*in begleiten Sie Interessierte unterschiedlicher Zielgruppen bei Ihre
 n Erkundungen im Kirchenraum. Sie setzen Impulse\, stärken das Vertrauen i
 n die eigene Wahrnehmung und laden ein zum Gespräch über ursprüngliche und
  neue Deutungen. Sie erschließen Kirchenräume in ihrer spirituellen\, ästh
 etischen und baugeschichtlichen Dimension. Die Kirchenpädagogik ist ein le
 bendiges Feld und lädt ein zum kreativen\, kollegialen Austausch neuer Ide
 en und Gedanken.\n\nDie Ausbildung ermöglicht Ihnen\, mit fundierter Kennt
 nis und methodischer Vielfalt Kirchenführungen für Gruppen und Schulklasse
 n anzubieten. Sie werden befähigt\, didaktisches Material zur Selbsterkund
 ung zu erstellen für Ihre Offene Kirche. Auch werden Sie zur kompetenten A
 nsprechpartner*in für Gemeinden\, Dekanate und Nachbarschaftsräume\, wenn 
 es darum geht\, Kirchenräume zu verlebendigen oder umzunutzen\, in ihrer N
 utzung zu erweitern oder auch zu verabschieden. Kirchenpädagogik leistet h
 ier einen wertvollen Beitrag zur Gemeinde- und Kirchenentwicklung.\n\nFür 
 pädagogische Fachkräfte stellt die Kirchenraumpädagogische Ausbildung eine
  Erweiterung ihres Kompetenzfeldes dar - insbesondere hinsichtlich der fun
 dierten raumpädagogischen Grundqualifikation\, die auch über Kirchenräume 
 hinaus Anwendung finden kann. \nDie Ausbildung ist zertifiziert durch den 
 Bundesverband Kirchenpädagogik e.V.. Sie entspricht den Standards des Verb
 ands und umfasst 120 Unterrichtseinheiten\, eine Probeführung und eine Hau
 sarbeit. \n\nDie Termine und Module:\n      \n14. - 16.08.26 Fulda - Bau- 
 und Frömmigkeitsgeschichte der Spätantike und des frühen Mittelalters\n23.
  - 25.10.26 Büdingen - Bau- und Frömmigkeitsgeschichte des Hochmittelalter
 s \n11. - 13.12.26 Marburg - Bau- und Frömmigkeitsgeschichte des Spätmitte
 lalters\n19. - 21.03.27 Weilburg - Bau- und Frömmigkeitsgeschichte des Spä
 tmittelalters und der frühen Neuzeit \n30. - 02.05.27 Gießen - Bau- und Fr
 ömmigkeitsgeschichte des 18. +19. Jahrhunderts \n03. - 05.09.27 Kassel - B
 au- und Frömmigkeitsgeschichte des 20. Und 21. Jahrhunderts\n22. - 24.10.2
 7 Frankfurt - Von Zelten und Hütten\n20.11.2027      Darmstadt- Abschlussg
 ottesdienst & Kolloquium\nInternetadresse: https://www.zbg-ekhn.de/veranst
 altungen/kurs/Praesenz-Kirchenraumpaedagogische-Ausbildung-zumr-Kirchenfue
 hrerin/2026-D-050?dark-mode=0\nKosten: 1.800 €\nVeranstalter: Ricarda Heym
 ann\nTelefonnummer bei Rückfragen zur Veranstaltung: 06151 6690 190
DTSTART;TZID=Europe/Berlin:20260814T140000
DTEND;TZID=Europe/Berlin:20261120T180000
LOCATION:Darmstadt: Zentrum Bildung und Gesellschaft der EKHN\, Standort Da
 rmstadt
SUMMARY:Kirchenraumpädagogische Ausbildung zum*r Kirchenführer*in
URL:https://termine.ekhn.de/veranstaltung_im_detail33778.html
END:VEVENT
END:VCALENDAR
