BEGIN:VCALENDAR
VERSION:2.0
PRODID:-//evangelische-termine.de//NONSGML kigkonsult.se iCalcreator 2.18//
CALSCALE:GREGORIAN
METHOD:PUBLISH
X-WR-CALNAME:iCal Evangelische-Termine 20.04.2026
X-WR-CALDESC:iCalender von Evangelische-Termine (20.04.2026)
X-WR-TIMEZONE:Europe/Berlin
X-MS-OLK-FORCEINSPECTOROPEN:TRUE
BEGIN:VTIMEZONE
TZID:Europe/Berlin
BEGIN:STANDARD
DTSTART:19701025T030000
TZOFFSETFROM:+0200
TZOFFSETTO:+0100
RRULE:FREQ=YEARLY;BYDAY=-1SU;BYMONTH=10
TZNAME:CET
END:STANDARD
BEGIN:DAYLIGHT
DTSTART:19700329T020000
TZOFFSETFROM:+0100
TZOFFSETTO:+0200
RRULE:FREQ=YEARLY;BYDAY=-1SU;BYMONTH=3
TZNAME:CEST
END:DAYLIGHT
END:VTIMEZONE
BEGIN:VEVENT
UID:20260330T201500-34084@evangelische-termine.de
DTSTAMP:20260420T084900Z
DESCRIPTION:\nVeranstaltungsort: programmkino rex\nWilhelminenstraße 9\n642
 83 Darmstadt\nAusführliche Beschreibung: Souleyman stammt aus Guinea und v
 ersucht in Frankreich einen Asylantrag zu stellen. Da er keinen Pass hat\,
  braucht er dringend Geld\, um an Papiere zu kommen. Dafür schlägt er sich
  unter haarsträubenden Bedingungen als Fahrradkurier für einen Essens-Lief
 erservice in Paris durch. Es bleiben ihm nur noch 48 Stunden bis zu seinem
  entscheidenden Termin beim Amt für Migration.\n\nRegie: Boris Lojkine\nFr
 ankreich 2024\, 93 Minuten\n\n„Gerade heute\, in einer Zeit\, in der Migra
 tionspolitik oft lauter ist als Menschlichkeit\, erinnert uns dieser Film 
 daran\, was die Existenz eines Jeden wirklich ausmacht: das Recht\, gesehe
 n zu werden\, gehört zu werden und leben zu dürfen – mit Würde.“ Open Eyes
  Jugendjury Preis 2025\, 14. Internationales Nürnberger Filmfestival der M
 enschenrechte\n\nDie aktuelle Filmreihe 'Flucht und Rassismus' findet im K
 ontext der Veranstaltungsreihe 'Für ein Miteinander – Mit Respekt. Anti-mu
 slimischer Rassismus' im März 2026 statt.\nInternetadresse: https://www.ki
 nopolis.de/rx
DTSTART;TZID=Europe/Berlin:20260330T201500
DTEND;TZID=Europe/Berlin:20260330T221500
LOCATION:Darmstadt: programmkino rex
SUMMARY:Souleymans Geschichte | OmU :: Film im AlleWeltKino
URL:https://termine.ekhn.de/veranstaltung_im_detail34084.html
END:VEVENT
END:VCALENDAR
