BEGIN:VCALENDAR
VERSION:2.0
PRODID:-//evangelische-termine.de//NONSGML kigkonsult.se iCalcreator 2.18//
CALSCALE:GREGORIAN
METHOD:PUBLISH
X-WR-CALNAME:iCal Evangelische-Termine 25.04.2026
X-WR-CALDESC:iCalender von Evangelische-Termine (25.04.2026)
X-WR-TIMEZONE:Europe/Berlin
X-MS-OLK-FORCEINSPECTOROPEN:TRUE
BEGIN:VTIMEZONE
TZID:Europe/Berlin
BEGIN:STANDARD
DTSTART:19701025T030000
TZOFFSETFROM:+0200
TZOFFSETTO:+0100
RRULE:FREQ=YEARLY;BYDAY=-1SU;BYMONTH=10
TZNAME:CET
END:STANDARD
BEGIN:DAYLIGHT
DTSTART:19700329T020000
TZOFFSETFROM:+0100
TZOFFSETTO:+0200
RRULE:FREQ=YEARLY;BYDAY=-1SU;BYMONTH=3
TZNAME:CEST
END:DAYLIGHT
END:VTIMEZONE
BEGIN:VEVENT
UID:20260829T100000-34109@evangelische-termine.de
DTSTAMP:20260425T115732Z
DESCRIPTION:\nFür Engagierte: Ja\nVeranstaltungsort: Geistliches Zentrum Ni
 eder-Weisel\nJohanniterstraße 7\n35510 Butzbach\nFormat der Veranstaltung:
  Präsenzveranstaltung\nAusführliche Beschreibung: Ein Workshop über das Em
 pfangen und Weitergeben des Segens. Wir spüren die geistliche Tiefe des Se
 gens: Segen empfangen\, Segen leben\, Segen weitergeben. Eine Auswahl viel
 fältiger Formen für Segen – darunter auch Salbung – wird erklärt und verti
 eft. Es werden biblische Wurzeln und praktisch-theologische Grundlagen beh
 andelt\, Hintergründe vertieft und in Beziehung zur heutigen Praxis gesetz
 t. Es werden aktuelle Impulse vermittelt\, wie Segen in Gottesdienst\, See
 lsorge und Alltag erfahrbar werden kann. Übungen und geistliche Reflexion 
 laden ein\, die eigene Segenspraxis zu vertiefen oder zu erneuern. Der gei
 stlichen Dimension des Segnens und auch des Gesegnet-Werdens gilt es nachz
 uspüren und sich ganz des Wirkens der Zuwendung Gottes bewusst zu werden. 
 \n\nLeitung: Inge Cahn von Seelen\, Pfarrerin\nOrt: Kapitelsaal \nAnmeldun
 g bis 14.08.2026\nInternetadresse: https://www.geistliches-zentrum-nieder-
 weisel.de\nKosten: 50\,-€ (inkl. Mittagsimbiss\, Getränke und Kursgebühr)
 \nVeranstalter: Geistliches Zentrum Nieder-Weisel\nTelefonnummer bei Rückf
 ragen zur Veranstaltung: 06033 749246
DTSTART;TZID=Europe/Berlin:20260829T100000
DTEND;TZID=Europe/Berlin:20260829T140000
LOCATION:Butzbach: Geistliches Zentrum Nieder-Weisel
SUMMARY:„Den Segen weitergeben“ – Einführung und Vertiefung
URL:https://termine.ekhn.de/veranstaltung_im_detail34109.html
END:VEVENT
END:VCALENDAR
