BEGIN:VCALENDAR
VERSION:2.0
PRODID:-//evangelische-termine.de//NONSGML kigkonsult.se iCalcreator 2.18//
CALSCALE:GREGORIAN
METHOD:PUBLISH
X-WR-CALNAME:iCal Evangelische-Termine 25.04.2026
X-WR-CALDESC:iCalender von Evangelische-Termine (25.04.2026)
X-WR-TIMEZONE:Europe/Berlin
X-MS-OLK-FORCEINSPECTOROPEN:TRUE
BEGIN:VTIMEZONE
TZID:Europe/Berlin
BEGIN:STANDARD
DTSTART:19701025T030000
TZOFFSETFROM:+0200
TZOFFSETTO:+0100
RRULE:FREQ=YEARLY;BYDAY=-1SU;BYMONTH=10
TZNAME:CET
END:STANDARD
BEGIN:DAYLIGHT
DTSTART:19700329T020000
TZOFFSETFROM:+0100
TZOFFSETTO:+0200
RRULE:FREQ=YEARLY;BYDAY=-1SU;BYMONTH=3
TZNAME:CEST
END:DAYLIGHT
END:VTIMEZONE
BEGIN:VEVENT
UID:20260905T083000-34114@evangelische-termine.de
DTSTAMP:20260425T115753Z
DESCRIPTION:\nFür Engagierte: Ja\nFormat der Veranstaltung: Präsenzveransta
 ltung\nKurzbeschreibung / Untertitel: von Hungen nach Grünberg\nAusführlic
 he Beschreibung: Treffpunkt: Bahnhof Friedberg (alternativ Bahnhof Hungen)
 \n\n„Hör bald auf!“ Manchem möchte man diesen Ausspruch Martin Luthers zur
 ufen\, weil er oder auch sie den rechten Zeitpunkt verpasst hat. Doch wie 
 schaut das eigentlich mit dem Aufhören in meinem Leben aus? Es muss ja nic
 ht immer die große Nummer sein. Manchmal geht es auch um die kleinen Dinge
 \, die geklärt werden wollen. Wo und wann ist es an der Zeit aufzuhören? W
 oran merke ich das? Was hindert mich daran? Und wie kann das gehen? Fragen
  über Fragen. Einen Tag Zeit\, um darüber mal in Ruhe nachzudenken und auc
 h mit anderen Männern zu reden\, bietet unser Männerpilgern auf dem Luther
 weg von Hungen nach Grünberg. Einzelne Impulse helfen uns\, unsere Gedanke
 n zu strukturieren. Treffpunkt ist am Bahnhof in Friedberg. Nach einem ers
 ten Kennenlernen fahren wir mit dem Zug nach Hungen. Von dort pilgern wir 
 nach Grünberg. Die Strecke beträgt etwa 21 Kilometer. Bei Interesse ist au
 ch noch ein Einkehrschwung in Grünberg möglich. Entsprechende Kondition\, 
 gutes Schuhwerk\, dem Wetter angepasste Kleidung\, ausreichend Proviant un
 d zu trinken sind eine wichtige Voraussetzung für den Weg. \n\nLeitung: Si
 egfried Nickel\, Pfarrer und Pilgerbegleiter\; Volkhard Guth\, Pfarrer und
  Dekan\nAnmeldung bis 28.08.2026\nInternetadresse: https://www.geistliches
 -zentrum-nieder-weisel.de\nKosten: 10\,-€ Kursgebühr zzgl. Zugticket\nVera
 nstalter: Geistliches Zentrum Nieder-Weisel\nTelefonnummer bei Rückfragen 
 zur Veranstaltung: 06033 749246
DTSTART;TZID=Europe/Berlin:20260905T083000
DTEND;TZID=Europe/Berlin:20260905T190000
LOCATION:: Ohne Ort
SUMMARY:„Weiter\, immer weiter!“ – Männerpilgern auf dem Lutherweg :: von H
 ungen nach Grünberg
URL:https://termine.ekhn.de/veranstaltung_im_detail34114.html
END:VEVENT
END:VCALENDAR
