BEGIN:VCALENDAR
VERSION:2.0
PRODID:-//evangelische-termine.de//NONSGML kigkonsult.se iCalcreator 2.18//
CALSCALE:GREGORIAN
METHOD:PUBLISH
X-WR-CALNAME:iCal Evangelische-Termine 25.04.2026
X-WR-CALDESC:iCalender von Evangelische-Termine (25.04.2026)
X-WR-TIMEZONE:Europe/Berlin
X-MS-OLK-FORCEINSPECTOROPEN:TRUE
BEGIN:VTIMEZONE
TZID:Europe/Berlin
BEGIN:STANDARD
DTSTART:19701025T030000
TZOFFSETFROM:+0200
TZOFFSETTO:+0100
RRULE:FREQ=YEARLY;BYDAY=-1SU;BYMONTH=10
TZNAME:CET
END:STANDARD
BEGIN:DAYLIGHT
DTSTART:19700329T020000
TZOFFSETFROM:+0100
TZOFFSETTO:+0200
RRULE:FREQ=YEARLY;BYDAY=-1SU;BYMONTH=3
TZNAME:CEST
END:DAYLIGHT
END:VTIMEZONE
BEGIN:VEVENT
UID:20260905T100000-34115@evangelische-termine.de
DTSTAMP:20260425T115722Z
DESCRIPTION:\nFür Engagierte: Ja\nVeranstaltungsort: Geistliches Zentrum Ni
 eder-Weisel\nJohanniterstraße 7\n35510 Butzbach\nFormat der Veranstaltung:
  Präsenzveranstaltung\nKurzbeschreibung / Untertitel: „Herr\, es ist Zeit\
 , der Sommer war sehr groß ...“ (R. M. Rilke)\nAusführliche Beschreibung: 
 Die Tage werden kürzer\, die Luft kühler\, die Farben reicher: Der Sommer 
 verabschiedet sich\, und mit ihm endet eine Zeit der Fülle\, der Wärme und
  der Leichtigkeit. Im Übergang zum Herbst liegt eine besondere Kraft – wir
  halten inne\, blicken zurück auf das\, was gereift ist\, und öffnen uns f
 ür das\, was kommen will. In der Schreibwerkstatt wird mit Impulsen aus bi
 blischen und lyrischen Texten gearbeitet\, verbunden mit Methoden aus dem 
 kreativ-biographischen Schreiben. Das Wichtigste dabei ist ganz einfach: E
 s steht jeder/m frei\, das zu schreiben\, was geschrieben werden will. Der
  Prozess steht im Vordergrund. Wir begegnen den Texten mit Wertschätzung u
 nd Respekt. Entstandene Texte können in der Gruppe geteilt werden\, sie mü
 ssen es aber nicht. Mitzubringen sind Neugier und Freude am schreibend-kre
 ativen Ausdruck und natürlich Schreibzeug. \n\nLeitung: Dr. Anke Spory\, P
 farrerin und Integrative Poesie- und Bibliotherapie (FPI)\nAnmledung bis 2
 1.08.2026\nInternetadresse: https://www.geistliches-zentrum-nieder-weisel.
 de\nKosten: 65\,-€ (inkl. Mittagsbuffet\, Getränke und Kursgebühr)\nVerans
 talter: Geistliches Zentrum Nieder-Weisel\nTelefonnummer bei Rückfragen zu
 r Veranstaltung: 06033 749246
DTSTART;TZID=Europe/Berlin:20260905T100000
DTEND;TZID=Europe/Berlin:20260905T160000
LOCATION:Butzbach: Geistliches Zentrum Nieder-Weisel
SUMMARY:Schreibwerkstatt: Schreiben im Übergang :: „Herr\, es ist Zeit\, de
 r Sommer war sehr groß ...“ (R. M. Rilke)
URL:https://termine.ekhn.de/veranstaltung_im_detail34115.html
END:VEVENT
END:VCALENDAR
