BEGIN:VCALENDAR
VERSION:2.0
PRODID:-//evangelische-termine.de//NONSGML kigkonsult.se iCalcreator 2.18//
CALSCALE:GREGORIAN
METHOD:PUBLISH
X-WR-CALNAME:iCal Evangelische-Termine 20.04.2026
X-WR-CALDESC:iCalender von Evangelische-Termine (20.04.2026)
X-WR-TIMEZONE:Europe/Berlin
X-MS-OLK-FORCEINSPECTOROPEN:TRUE
BEGIN:VTIMEZONE
TZID:Europe/Berlin
BEGIN:STANDARD
DTSTART:19701025T030000
TZOFFSETFROM:+0200
TZOFFSETTO:+0100
RRULE:FREQ=YEARLY;BYDAY=-1SU;BYMONTH=10
TZNAME:CET
END:STANDARD
BEGIN:DAYLIGHT
DTSTART:19700329T020000
TZOFFSETFROM:+0100
TZOFFSETTO:+0200
RRULE:FREQ=YEARLY;BYDAY=-1SU;BYMONTH=3
TZNAME:CEST
END:DAYLIGHT
END:VTIMEZONE
BEGIN:VEVENT
UID:20261215T193000-34124@evangelische-termine.de
DTSTAMP:20260420T132731Z
DESCRIPTION:\nFür Engagierte: Ja\nFormat der Veranstaltung: Onlineveranstal
 tung\nKurzbeschreibung / Untertitel: Fünfwöchiges Online-Angebot\nAusführl
 iche Beschreibung: Seit jeher haben Christinnen und Christen die Adventsze
 it als eine besondere Zeit der Vorbereitung auf Weihnachten gestaltet und 
 gefeiert. Advent heißt Ankunft: Wir warten auf die Ankunft Jesu in unseren
  Herzen. Adventsexerzitien wollen dabei eine Hilfe sein\, die ursprünglich
 e Bedeutung des Advents als Zeit der Stille in seiner heilsamen Wirkung fü
 r die persönliche Erfahrung neu zu erschließen. Ein wöchentliches Treffen 
 und eine tägliche persönliche Gebetszeit sind Bestandteile dieses spiritue
 llen Weges Richtung Weihnachten\, zur Krippe. In den Gruppentreffen über Z
 oom üben wir einfache Gebetsformen miteinander ein und tauschen uns über u
 nsere Erfahrungen aus. Es braucht keine Vorkenntnisse für die Teilnahme. E
 s genügt die Bereitschaft\, dem\, was im eigenen Leben wirken möchte\, Rau
 m zu geben. Das Thema im Advent 2026 wird im Laufe des Jahres über den New
 sletter des Geistlichen Zentrums bekanntgegeben. \n\nLeitung: Johannes Mis
 terek\, Pfarrer am Geistlichen Zentrum und Exerzitienbegleiter\; Ursula We
 ndt\, Pfarrerin\, und Geistliche Begleiterin\; und Team\nAnmeldung bis 16.
 11.2026\nInternetadresse: https://www.geistliches-zentrum-nieder-weisel.de
 \nKosten: Spenden willkommen\nVeranstalter: Geistliches Zentrum Nieder-Wei
 sel\nTelefonnummer bei Rückfragen zur Veranstaltung: 06033 749246
DTSTART;TZID=Europe/Berlin:20261215T193000
DTEND;TZID=Europe/Berlin:20261215T211500
LOCATION:: Ohne Ort
SUMMARY:Adventsexerzitien 2026: Auf dem Weg zur Krippe
URL:https://termine.ekhn.de/veranstaltung_im_detail34124.html
END:VEVENT
END:VCALENDAR
