BEGIN:VCALENDAR
VERSION:2.0
PRODID:-//evangelische-termine.de//NONSGML kigkonsult.se iCalcreator 2.18//
CALSCALE:GREGORIAN
METHOD:PUBLISH
X-WR-CALNAME:iCal Evangelische-Termine 20.04.2026
X-WR-CALDESC:iCalender von Evangelische-Termine (20.04.2026)
X-WR-TIMEZONE:Europe/Berlin
X-MS-OLK-FORCEINSPECTOROPEN:TRUE
BEGIN:VTIMEZONE
TZID:Europe/Berlin
BEGIN:STANDARD
DTSTART:19701025T030000
TZOFFSETFROM:+0200
TZOFFSETTO:+0100
RRULE:FREQ=YEARLY;BYDAY=-1SU;BYMONTH=10
TZNAME:CET
END:STANDARD
BEGIN:DAYLIGHT
DTSTART:19700329T020000
TZOFFSETFROM:+0100
TZOFFSETTO:+0200
RRULE:FREQ=YEARLY;BYDAY=-1SU;BYMONTH=3
TZNAME:CEST
END:DAYLIGHT
END:VTIMEZONE
BEGIN:VEVENT
UID:20261205T093000-34126@evangelische-termine.de
DTSTAMP:20260420T133032Z
DESCRIPTION:\nFür Engagierte: Ja\nVeranstaltungsort: Geistliches Zentrum Ni
 eder-Weisel\nJohanniterstraße 7\n35510 Butzbach\nFormat der Veranstaltung:
  Präsenzveranstaltung\nAusführliche Beschreibung: Stille tut gut – das spü
 ren viele Menschen intuitiv. Aber was „tun“ wir eigentlich in der Stille\,
  vor allem\, wenn die Gedanken und Gefühle in Kopf und Leib umherschwirren
 ? Das Gebet der Sammlung (englisch: Centering Prayer) ist eine Methode\, d
 ie der Stille eine Struktur gibt. Es wurde von amerikanischen Trappistenmö
 nchen in den 70er Jahren des 20. Jahrhunderts entwickelt und ist eine Medi
 tationspraxis\, die in der christlichen kontemplativen Tradition verwurzel
 t ist - basierend auf dem Prinzip der „Kenosis“\, der Selbsthingabe Christ
 i\, wie sie von Paulus in Philipper 2\,6-11 beschrieben wird. Bei diesem E
 inführungstag wechseln inhaltliche Impulse und Gespräch mit je 20-minütige
 n Gebetszeiten. Meditationsbänke und Decken sind vorhanden. \n\nLeitung: C
 hristoph Baumann\, Pfarrer\nAnmeldung bis 20.11.2026\nInternetadresse: htt
 ps://www.geistliches-zentrum-nieder-weisel.de\nKosten: 25\,-€ (inkl. Kaffe
 e/Tee\, Gebäck und Kursgebühr)\nVeranstalter: Geistliches Zentrum Nieder-W
 eisel\nTelefonnummer bei Rückfragen zur Veranstaltung: 06033 749246
DTSTART;TZID=Europe/Berlin:20261205T093000
DTEND;TZID=Europe/Berlin:20261205T130000
LOCATION:Butzbach: Geistliches Zentrum Nieder-Weisel
SUMMARY:Christliche Meditation: Das „Gebet der Sammlung“
URL:https://termine.ekhn.de/veranstaltung_im_detail34126.html
END:VEVENT
END:VCALENDAR
