BEGIN:VCALENDAR
VERSION:2.0
PRODID:-//evangelische-termine.de//NONSGML kigkonsult.se iCalcreator 2.18//
CALSCALE:GREGORIAN
METHOD:PUBLISH
X-WR-CALNAME:iCal Evangelische-Termine 21.04.2026
X-WR-CALDESC:iCalender von Evangelische-Termine (21.04.2026)
X-WR-TIMEZONE:Europe/Berlin
X-MS-OLK-FORCEINSPECTOROPEN:TRUE
BEGIN:VTIMEZONE
TZID:Europe/Berlin
BEGIN:STANDARD
DTSTART:19701025T030000
TZOFFSETFROM:+0200
TZOFFSETTO:+0100
RRULE:FREQ=YEARLY;BYDAY=-1SU;BYMONTH=10
TZNAME:CET
END:STANDARD
BEGIN:DAYLIGHT
DTSTART:19700329T020000
TZOFFSETFROM:+0100
TZOFFSETTO:+0200
RRULE:FREQ=YEARLY;BYDAY=-1SU;BYMONTH=3
TZNAME:CEST
END:DAYLIGHT
END:VTIMEZONE
BEGIN:VEVENT
UID:20260718T120500-34218@evangelische-termine.de
DTSTAMP:20260421T123426Z
DESCRIPTION:\nFür Engagierte: Nein\nVeranstaltungsort: Dom St. Peter zu Wor
 ms\nDomplatz\n67547 Worms\nFormat der Veranstaltung: Präsenzveranstaltung
 \nKurzbeschreibung / Untertitel: mit Pfarrerin Franziska Endres\nAusführli
 che Beschreibung: Unmittelbar nach dem Mittagsläuten um 12 Uhr\, sind Worm
 serinnen und Wormser sowie Dom- und Worms-Besucher zu einem ca. dreißig mi
 nütigem Innehalten eingeladen. Mit Orgelmusik und einigen Impulsen bzw. Ge
 danken besteht die Möglichkeit\, für einen Augenblick zur Ruhe zu kommen. 
 Dabei haben Besucherinnen und Besucher des Wormser Doms die seltene Gelege
 nheit\, während der Andacht im historischen Chorgestühl vor dem Hochaltar 
 sitzen zu können.\nBild Alttext: Das Bild zeigt den Hochaltar von Balthasa
 r Neumann.
DTSTART;TZID=Europe/Berlin:20260718T120500
DTEND;TZID=Europe/Berlin:20260718T130500
LOCATION:Worms: Dom St. Peter zu Worms
SUMMARY:Ökumenisches Mittagsgebet
URL:https://termine.ekhn.de/veranstaltung_im_detail34218.html
END:VEVENT
END:VCALENDAR
