BEGIN:VCALENDAR
VERSION:2.0
PRODID:-//evangelische-termine.de//NONSGML kigkonsult.se iCalcreator 2.18//
CALSCALE:GREGORIAN
METHOD:PUBLISH
X-WR-CALNAME:iCal Evangelische-Termine 21.04.2026
X-WR-CALDESC:iCalender von Evangelische-Termine (21.04.2026)
X-WR-TIMEZONE:Europe/Berlin
X-MS-OLK-FORCEINSPECTOROPEN:TRUE
BEGIN:VTIMEZONE
TZID:Europe/Berlin
BEGIN:STANDARD
DTSTART:19701025T030000
TZOFFSETFROM:+0200
TZOFFSETTO:+0100
RRULE:FREQ=YEARLY;BYDAY=-1SU;BYMONTH=10
TZNAME:CET
END:STANDARD
BEGIN:DAYLIGHT
DTSTART:19700329T020000
TZOFFSETFROM:+0100
TZOFFSETTO:+0200
RRULE:FREQ=YEARLY;BYDAY=-1SU;BYMONTH=3
TZNAME:CEST
END:DAYLIGHT
END:VTIMEZONE
BEGIN:VEVENT
UID:20260912T120500-34221@evangelische-termine.de
DTSTAMP:20260421T141716Z
DESCRIPTION:\nFür Engagierte: Nein\nVeranstaltungsort: Dom St. Peter zu Wor
 ms\nDomplatz\n67547 Worms\nFormat der Veranstaltung: Präsenzveranstaltung
 \nKurzbeschreibung / Untertitel: mit Pfarrerin Dr. Erika Mohri\nAusführlic
 he Beschreibung: Unmittelbar nach dem Mittagsläuten um 12 Uhr\, sind Worms
 erinnen und Wormser sowie Dom- und Worms-Besucher zu einem ca. dreißig min
 ütigem Innehalten eingeladen. Mit Orgelmusik und einigen Impulsen bzw. Ged
 anken besteht die Möglichkeit\, für einen Augenblick zur Ruhe zu kommen. D
 abei haben Besucherinnen und Besucher des Wormser Doms die seltene Gelegen
 heit\, während der Andacht im historischen Chorgestühl vor dem Hochaltar s
 itzen zu können.\nBild Alttext: Das Bild zeigt den Hochaltar von Balthasar
  Neumann.
DTSTART;TZID=Europe/Berlin:20260912T120500
DTEND;TZID=Europe/Berlin:20260912T130500
LOCATION:Worms: Dom St. Peter zu Worms
SUMMARY:Ökumenisches Mittagsgebet
URL:https://termine.ekhn.de/veranstaltung_im_detail34221.html
END:VEVENT
END:VCALENDAR
