BEGIN:VCALENDAR
VERSION:2.0
PRODID:-//evangelische-termine.de//NONSGML kigkonsult.se iCalcreator 2.18//
CALSCALE:GREGORIAN
METHOD:PUBLISH
X-WR-CALNAME:iCal Evangelische-Termine 20.04.2026
X-WR-CALDESC:iCalender von Evangelische-Termine (20.04.2026)
X-WR-TIMEZONE:Europe/Berlin
X-MS-OLK-FORCEINSPECTOROPEN:TRUE
BEGIN:VTIMEZONE
TZID:Europe/Berlin
BEGIN:STANDARD
DTSTART:19701025T030000
TZOFFSETFROM:+0200
TZOFFSETTO:+0100
RRULE:FREQ=YEARLY;BYDAY=-1SU;BYMONTH=10
TZNAME:CET
END:STANDARD
BEGIN:DAYLIGHT
DTSTART:19700329T020000
TZOFFSETFROM:+0100
TZOFFSETTO:+0200
RRULE:FREQ=YEARLY;BYDAY=-1SU;BYMONTH=3
TZNAME:CEST
END:DAYLIGHT
END:VTIMEZONE
BEGIN:VEVENT
UID:20260513T190000-34281@evangelische-termine.de
DTSTAMP:20260420T080845Z
DESCRIPTION:\nFür Engagierte: Nein\nVeranstaltungsort: Evangelische Kirche 
 Wiesbaden-Bierstadt\nPfarrer-Ruhl-Platz 1\n65191 Wiesbaden-Bierstadt\nForm
 at der Veranstaltung: Präsenzveranstaltung\nKurzbeschreibung / Untertitel:
  Musikalische Andacht\nAusführliche Beschreibung: Wir singen nun als Quart
 ett zusammen mit Martin Fromme\, Tenor • Musik für vier Stimmen - Gesang u
 nd Orgelmusik von u.a. Johann Sebastian Bach\, Felix Mendelssohn\, aus Ion
 a und Taizé.\nAtemlos durch die Nacht? Keine Sorge\, hier können Sie ruhig
  durchatmen und entspannen und müssen dafür nicht mal über sieben Brücken 
 gehen\, sondern lediglich in die evangelische Kirche Bierstadt. Flyer von 
 3für1 © Heidi HeinrichDort wird Ihnen weder Griechischer Wein noch alles m
 it Sahne serviert\, sondern eher purer Ohrenschmaus. Angie\, Rosamunde und
  der Junge mit der Mundharmonika werden vermutlich nicht kommen\; wir freu
 en uns aber auf Ihren Besuch ganz egal\, ob Sie Klempner von Beruf sind od
 er Perlenfischer. Der Enzian wird nicht blau für Sie blühen\, aber Sie kön
 nen für 30 Minuten blaumachen\, die Augen schließen und von einem Haus am 
 See oder 99 Luftballons träumen … Ist das nicht Wahnsinn? Wenn Sie am Ende
  ein bisschen Frieden gefunden haben und das Gefühl haben\, es ist schön a
 uf der Welt zu sein\, dann feelen wir uns happy!\n\nHeidi Heinrich\, Marti
 n Fromme\, Katrin Scheder und Thomas Schwarz laden Sie herzlich ein zu ein
 er musikalischen Auszeit. Das Quartett singt für Sie vom Taizégesang bis z
 ur Motette und von uralt bis zeitgenössisch. Unterbrochen wird der Gesang 
 nur von einem Psalm\, einem Segen und einem Orgelstück. Das Ganze dauert c
 a. 30 Minuten\, kostet Sie nichts und bedarf keiner Anmeldung. Wenn Sie Lu
 st und Zeit haben mal bei Livemusik abzutauchen\, kommen Sie einfach vorbe
 i.\n\n4 Stimmen für 1 Auszeit ist einmal im Monat am Dienstagabend um 19.0
 0 Uhr zu hören.\nInternetadresse: https://musicanera.de\nVeranstalter: Eva
 ngelische Kirchengemeinde Wiesbaden-Bierstadt\nTelefonnummer bei Rückfrage
 n zur Veranstaltung: 06127965221
DTSTART;TZID=Europe/Berlin:20260513T190000
DTEND;TZID=Europe/Berlin:20260513T193000
LOCATION:Wiesbaden-Bierstadt: Evangelische Kirche Wiesbaden-Bierstadt
SUMMARY:4 Stimmen für 1 Auszeit - Gesang und Texte angelehnt an die Form de
 s Evensongs :: Musikalische Andacht
URL:https://termine.ekhn.de/veranstaltung_im_detail34281.html
END:VEVENT
END:VCALENDAR
