BEGIN:VCALENDAR
VERSION:2.0
PRODID:-//evangelische-termine.de//NONSGML kigkonsult.se iCalcreator 2.18//
CALSCALE:GREGORIAN
METHOD:PUBLISH
X-WR-CALNAME:iCal Evangelische-Termine 25.04.2026
X-WR-CALDESC:iCalender von Evangelische-Termine (25.04.2026)
X-WR-TIMEZONE:Europe/Berlin
X-MS-OLK-FORCEINSPECTOROPEN:TRUE
BEGIN:VTIMEZONE
TZID:Europe/Berlin
BEGIN:STANDARD
DTSTART:19701025T030000
TZOFFSETFROM:+0200
TZOFFSETTO:+0100
RRULE:FREQ=YEARLY;BYDAY=-1SU;BYMONTH=10
TZNAME:CET
END:STANDARD
BEGIN:DAYLIGHT
DTSTART:19700329T020000
TZOFFSETFROM:+0100
TZOFFSETTO:+0200
RRULE:FREQ=YEARLY;BYDAY=-1SU;BYMONTH=3
TZNAME:CEST
END:DAYLIGHT
END:VTIMEZONE
BEGIN:VEVENT
UID:20260506T160000-34344@evangelische-termine.de
DTSTAMP:20260425T141807Z
DESCRIPTION:\nFür Engagierte: Nein\nVeranstaltungsort: Evangelisch-reformie
 rte Gemeinde Am Marktplatz - Gemeindhaus\nAm Marktplatz 8\n63263 Neu-Isenb
 urg\nFormat der Veranstaltung: Präsenzveranstaltung\nAusführliche Beschrei
 bung: Immer am ersten Mittwoch im  Monat laden wir in Kooperation mit der 
 Flüchlinghilfe Neu-Isenburg Isenburger und Flüchtlinge\, die vor Krieg\, N
 ot und Verfolgung in der Hugenottenstadt Zuflucht fanden\, zum gemeinsamen
  Austausch ein.\n\nJeder\, der Interesse an anderen Kulturen hat und sich 
 für die Integration von Ausgegrenzten in unserer Gesellschaft einsetzen mö
 chte\,ist herzlich willkommen.\n\nTreffen zu Kaffee / Tee und Kuchen\, Ges
 prächen\, Kontakte knüpfen\, mehr voneinander erfahren.                   
                                                 \n\nMit Spielbeschäftigung
  für Kinder.
DTSTART;TZID=Europe/Berlin:20260506T160000
DTEND;TZID=Europe/Berlin:20260506T180000
LOCATION:Neu-Isenburg: Evangelisch-reformierte Gemeinde Am Marktplatz - Gem
 eindhaus
SUMMARY:Café Grenzenlos Am Marktplatz
URL:https://termine.ekhn.de/veranstaltung_im_detail34344.html
END:VEVENT
END:VCALENDAR
