BEGIN:VCALENDAR
VERSION:2.0
PRODID:-//evangelische-termine.de//NONSGML kigkonsult.se iCalcreator 2.18//
CALSCALE:GREGORIAN
METHOD:PUBLISH
X-WR-CALNAME:iCal Evangelische-Termine 22.04.2026
X-WR-CALDESC:iCalender von Evangelische-Termine (22.04.2026)
X-WR-TIMEZONE:Europe/Berlin
X-MS-OLK-FORCEINSPECTOROPEN:TRUE
BEGIN:VTIMEZONE
TZID:Europe/Berlin
BEGIN:STANDARD
DTSTART:19701025T030000
TZOFFSETFROM:+0200
TZOFFSETTO:+0100
RRULE:FREQ=YEARLY;BYDAY=-1SU;BYMONTH=10
TZNAME:CET
END:STANDARD
BEGIN:DAYLIGHT
DTSTART:19700329T020000
TZOFFSETFROM:+0100
TZOFFSETTO:+0200
RRULE:FREQ=YEARLY;BYDAY=-1SU;BYMONTH=3
TZNAME:CEST
END:DAYLIGHT
END:VTIMEZONE
BEGIN:VEVENT
UID:20260607T180000-34650@evangelische-termine.de
DTSTAMP:20260422T104542Z
DESCRIPTION:\nKurzbeschreibung / Untertitel: Vom kleinen grünen Kaktus\, de
 m Duft der Rose und dem Fluss\, der ins Meer fließt: FLuTho erkundet die N
 atur in musikalischer Form. Auch Elefanten\, Mäuse und ein Huhn werden die
  Lutherkirche besuchen.\nAusführliche Beschreibung: Freuen Sie sich auf ei
 n abwechslungsreiches Programm mit Musik\, die Sie vielleicht nicht von ei
 nem Blockflötenensemble erwartet hätten.\nVeranstaltungsort: Lutherkirche
 \nZitadellenweg 1\n55131 Mainz
DTSTART;TZID=Europe/Berlin:20260607T180000
DTEND;TZID=Europe/Berlin:20260607T190000
LOCATION:Mainz: Lutherkirche
SUMMARY:Von Tieren und Pflanzen - ein musikalischer Streifzug durch die Nat
 ur
URL:https://termine.ekhn.de/veranstaltung_im_detail34650.html
END:VEVENT
END:VCALENDAR
