BEGIN:VCALENDAR
VERSION:2.0
PRODID:-//evangelische-termine.de//NONSGML kigkonsult.se iCalcreator 2.18//
CALSCALE:GREGORIAN
METHOD:PUBLISH
X-WR-CALNAME:iCal Evangelische-Termine 21.04.2026
X-WR-CALDESC:iCalender von Evangelische-Termine (21.04.2026)
X-WR-TIMEZONE:Europe/Berlin
X-MS-OLK-FORCEINSPECTOROPEN:TRUE
BEGIN:VTIMEZONE
TZID:Europe/Berlin
BEGIN:STANDARD
DTSTART:19701025T030000
TZOFFSETFROM:+0200
TZOFFSETTO:+0100
RRULE:FREQ=YEARLY;BYDAY=-1SU;BYMONTH=10
TZNAME:CET
END:STANDARD
BEGIN:DAYLIGHT
DTSTART:19700329T020000
TZOFFSETFROM:+0100
TZOFFSETTO:+0200
RRULE:FREQ=YEARLY;BYDAY=-1SU;BYMONTH=3
TZNAME:CEST
END:DAYLIGHT
END:VTIMEZONE
BEGIN:VEVENT
UID:20260506T190000-34735@evangelische-termine.de
DTSTAMP:20260421T101019Z
DESCRIPTION:\nVeranstaltungsort: Das Offene Haus\nRheinstraße 31\n64283 Dar
 mstadt\nAusführliche Beschreibung: Der politische Streit in den USA hat si
 ch in den vergangenen Jahren zu einem umfassenden Kulturkampf ausgeweitet.
  In Debatten u. a. über die Deutung der US-amerikanischen Geschichte\, übe
 r die Lehrfreiheit an Universitäten\, über Pressefreiheit\, über die Rolle
  von Museen und Schulen\, über „Wokeness“ und über die Diversity-Programme
  kommt dies zum Ausdruck. Zudem ist eine wachsende Rolle von Religion in d
 er Politik zu beobachten.\n\nIm Fokus der Veranstaltung stehen die Ziele u
 nd Strategien von Trumps MAGA-Bewegung sowie die Reaktionen von Zivilgesel
 lschaft\, Bildungseinrichtungen und Kultur. Welche gesellschaftlichen Folg
 en hat dieser Kulturkampf– und was bedeutet er über die USA hinaus?\n\nOft
  schauen wir derzeit mit Verwunderung\, Unverständnis und auch Wut auf die
  Entwicklungen in den USA. Wir sehen die Selbstinszenierung eines (fast) a
 utokratischen und egozentrischen Herrschers\, wir hören Lügen\, wir sehen 
 erbarmungslose Angriffe auf Menschen und auf grundlegende demokratische Pr
 inzipien und Institutionen – auf Menschen ohne Papiere\, auf Minderheiten\
 , auf Gewaltenteilung und -kontrolle\, auf die Justiz\, auf liberale Medie
 n\, auf Bildungseinrichtungen\, auf Museen\, auf Bibliotheken... . Erst la
 ngsam ist der Widerstand dagegen erwacht.\n\nIm Jahr ihres 250. Geburtstag
 es möchten wir genauer auf die USA schauen\, auch aus dem aktuellen Anlass
  der Fußball-WM\, die in den USA\, Kanada und Mexiko stattfindet. Wir nehm
 en die jüngere Geschichte und Politik in den Blick\, den Umbau des Staates
  und der Gesellschaft unter Trump\, die Frage des Kulturkampfes\, die Reak
 tionen der Zivilgesellschaft sowie die Verquickungen von Sport und Politik
 .\n\nDie Reihe wird vom Darmstädter Netzwerk für politische Bildung durchg
 eführt. Wir laden Sie ein zum Zuhören und Mitdiskutieren!
DTSTART;TZID=Europe/Berlin:20260506T190000
DTEND;TZID=Europe/Berlin:20260506T210000
LOCATION:Darmstadt: Das Offene Haus
SUMMARY:Politik als Kulturkampf: die USA unter Trump :: mit Prof. Dr. Johan
 nes Völz\, Frankfurt | Vortrag zur Reihe '250 Jahre USA'
URL:https://termine.ekhn.de/veranstaltung_im_detail34735.html
END:VEVENT
END:VCALENDAR
