BEGIN:VCALENDAR
VERSION:2.0
PRODID:-//evangelische-termine.de//NONSGML kigkonsult.se iCalcreator 2.18//
CALSCALE:GREGORIAN
METHOD:PUBLISH
X-WR-CALNAME:iCal Evangelische-Termine 21.04.2026
X-WR-CALDESC:iCalender von Evangelische-Termine (21.04.2026)
X-WR-TIMEZONE:Europe/Berlin
X-MS-OLK-FORCEINSPECTOROPEN:TRUE
BEGIN:VTIMEZONE
TZID:Europe/Berlin
BEGIN:STANDARD
DTSTART:19701025T030000
TZOFFSETFROM:+0200
TZOFFSETTO:+0100
RRULE:FREQ=YEARLY;BYDAY=-1SU;BYMONTH=10
TZNAME:CET
END:STANDARD
BEGIN:DAYLIGHT
DTSTART:19700329T020000
TZOFFSETFROM:+0100
TZOFFSETTO:+0200
RRULE:FREQ=YEARLY;BYDAY=-1SU;BYMONTH=3
TZNAME:CEST
END:DAYLIGHT
END:VTIMEZONE
BEGIN:VEVENT
UID:20260521T190000-34739@evangelische-termine.de
DTSTAMP:20260421T101038Z
DESCRIPTION:\nVeranstaltungsort: Das Offene Haus\nRheinstraße 31\n64283 Dar
 mstadt\nAusführliche Beschreibung: Am vierten Abend blicken wir auf die Ve
 rbindung von Sport\, Politik und Wirtschaft. Dabei beleuchten wir die poli
 tischen Hintergründe der bevorstehenden Fußball-WM – von finanziellen Inte
 ressen bis hin zu umstrittenen Verbindungen zwischen zentralen Akteuren im
  Weltfußball\, z.B. zwischen dem Trump-Clan und der FIFA-Spitze um Gianni 
 Infantino. Im Fokus stehen außerdem die zunehmende Kommerzialisierung des 
 Sports\, die politische Bewertung des Fußballs in Deutschland sowie das Ph
 änomen des Sportswashing\, das vor allem von autoritär regierten Staaten a
 ls politisches und wirtschaftliches Instrument genutzt wird.\n \nZusammen 
 mit Sportjournalist Chaled Nahar (Sportschau und Deutschlandfunk) fragen w
 ir\, wie und wofür Sport gezielt instrumentalisiert wird\, und diskutieren
  vor dem Hintergrund des sich auflösenden Verhältnisses zu den USA die Fra
 ge\, ob und wie ein Boykott des Lieblingssports der Deutschen ein wirksame
 s Mittel darstellt.\n\nOft schauen wir derzeit mit Verwunderung\, Unverstä
 ndnis und auch Wut auf die Entwicklungen in den USA. Wir sehen die Selbsti
 nszenierung eines (fast) autokratischen und egozentrischen Herrschers\, wi
 r hören Lügen\, wir sehen erbarmungslose Angriffe auf Menschen und auf gru
 ndlegende demokratische Prinzipien und Institutionen – auf Menschen ohne P
 apiere\, auf Minderheiten\, auf Gewaltenteilung und -kontrolle\, auf die J
 ustiz\, auf liberale Medien\, auf Bildungseinrichtungen\, auf Museen\, auf
  Bibliotheken... . Erst langsam ist der Widerstand dagegen erwacht.\n\nIm 
 Jahr ihres 250. Geburtstages möchten wir genauer auf die USA schauen\, auc
 h aus dem aktuellen Anlass der Fußball-WM\, die in den USA\, Kanada und Me
 xiko stattfindet. Wir nehmen die jüngere Geschichte und Politik in den Bli
 ck\, den Umbau des Staates und der Gesellschaft unter Trump\, die Frage de
 s Kulturkampfes\, die Reaktionen der Zivilgesellschaft sowie die Verquicku
 ngen von Sport und Politik.\n\nDie Reihe wird vom Darmstädter Netzwerk für
  politische Bildung durchgeführt. Wir laden Sie ein zum Zuhören und Mitdis
 kutieren!
DTSTART;TZID=Europe/Berlin:20260521T190000
DTEND;TZID=Europe/Berlin:20260521T210000
LOCATION:Darmstadt: Das Offene Haus
SUMMARY:Auf dem Spielfeld der Mächtigen – wie Sport politisch genutzt wird 
 :: mit Chaled Nahar\, Sportjournalist | Vortrag zur Reihe '250 Jahre USA'
URL:https://termine.ekhn.de/veranstaltung_im_detail34739.html
END:VEVENT
END:VCALENDAR
