BEGIN:VCALENDAR
VERSION:2.0
PRODID:-//evangelische-termine.de//NONSGML kigkonsult.se iCalcreator 2.18//
CALSCALE:GREGORIAN
METHOD:PUBLISH
X-WR-CALNAME:iCal Evangelische-Termine 21.04.2026
X-WR-CALDESC:iCalender von Evangelische-Termine (21.04.2026)
X-WR-TIMEZONE:Europe/Berlin
X-MS-OLK-FORCEINSPECTOROPEN:TRUE
BEGIN:VTIMEZONE
TZID:Europe/Berlin
BEGIN:STANDARD
DTSTART:19701025T030000
TZOFFSETFROM:+0200
TZOFFSETTO:+0100
RRULE:FREQ=YEARLY;BYDAY=-1SU;BYMONTH=10
TZNAME:CET
END:STANDARD
BEGIN:DAYLIGHT
DTSTART:19700329T020000
TZOFFSETFROM:+0100
TZOFFSETTO:+0200
RRULE:FREQ=YEARLY;BYDAY=-1SU;BYMONTH=3
TZNAME:CEST
END:DAYLIGHT
END:VTIMEZONE
BEGIN:VEVENT
UID:20260527T190000-34743@evangelische-termine.de
DTSTAMP:20260421T101037Z
DESCRIPTION:\nVeranstaltungsort: Katholisches Bildungszentrum NR30\nNieder-
 Ramstädter Str. 30\n64283 Darmstadt\nAusführliche Beschreibung: Die langjä
 hrige USA-Expertin Rieke Havertz stellt ihr Buch vor. Sie lädt uns ein in 
 ihr Amerika – auf eine persönliche Reise durch Erinnerungen\, US-amerikani
 sche Ambivalenzen und ein sich veränderndes Land\, dessen Entwicklungen un
 s doch alle betreffen. Immer ist ihre Hoffnung zu spüren\, dieses streitba
 re\, entnervende\, wunderbare\, aufregende Land nicht aufgeben zu müssen.
 \n\nOft schauen wir derzeit mit Verwunderung\, Unverständnis und auch Wut 
 auf die Entwicklungen in den USA. Wir sehen die Selbstinszenierung eines (
 fast) autokratischen und egozentrischen Herrschers\, wir hören Lügen\, wir
  sehen erbarmungslose Angriffe auf Menschen und auf grundlegende demokrati
 sche Prinzipien und Institutionen – auf Menschen ohne Papiere\, auf Minder
 heiten\, auf Gewaltenteilung und -kontrolle\, auf die Justiz\, auf liberal
 e Medien\, auf Bildungseinrichtungen\, auf Museen\, auf Bibliotheken... . 
 Erst langsam ist der Widerstand dagegen erwacht.\n\nIm Jahr ihres 250. Geb
 urtstages möchten wir genauer auf die USA schauen\, auch aus dem aktuellen
  Anlass der Fußball-WM\, die in den USA\, Kanada und Mexiko stattfindet. W
 ir nehmen die jüngere Geschichte und Politik in den Blick\, den Umbau des 
 Staates und der Gesellschaft unter Trump\, die Frage des Kulturkampfes\, d
 ie Reaktionen der Zivilgesellschaft sowie die Verquickungen von Sport und 
 Politik.\n\nDie Reihe wird vom Darmstädter Netzwerk für politische Bildung
  durchgeführt. Wir laden Sie ein zum Zuhören und Mitdiskutieren!
DTSTART;TZID=Europe/Berlin:20260527T190000
DTEND;TZID=Europe/Berlin:20260527T210000
LOCATION:Darmstadt: Katholisches Bildungszentrum NR30
SUMMARY:Goodbye\, Amerika? Die USA und wir – eine Neuvermessung :: Vortrag 
 & Buchvorstellung mit Rieke Havertz\, Journalistin & Podcasterin | Reihe '
 250 Jahre USA'
URL:https://termine.ekhn.de/veranstaltung_im_detail34743.html
END:VEVENT
END:VCALENDAR
