BEGIN:VCALENDAR
VERSION:2.0
PRODID:-//evangelische-termine.de//NONSGML kigkonsult.se iCalcreator 2.18//
CALSCALE:GREGORIAN
METHOD:PUBLISH
X-WR-CALNAME:iCal Evangelische-Termine 20.04.2026
X-WR-CALDESC:iCalender von Evangelische-Termine (20.04.2026)
X-WR-TIMEZONE:Europe/Berlin
X-MS-OLK-FORCEINSPECTOROPEN:TRUE
BEGIN:VTIMEZONE
TZID:Europe/Berlin
BEGIN:STANDARD
DTSTART:19701025T030000
TZOFFSETFROM:+0200
TZOFFSETTO:+0100
RRULE:FREQ=YEARLY;BYDAY=-1SU;BYMONTH=10
TZNAME:CET
END:STANDARD
BEGIN:DAYLIGHT
DTSTART:19700329T020000
TZOFFSETFROM:+0100
TZOFFSETTO:+0200
RRULE:FREQ=YEARLY;BYDAY=-1SU;BYMONTH=3
TZNAME:CEST
END:DAYLIGHT
END:VTIMEZONE
BEGIN:VEVENT
UID:20260530T100000-34779@evangelische-termine.de
DTSTAMP:20260420T084753Z
DESCRIPTION:\nVeranstaltungsort: Waldenserkirche Rohrbach\nPragelatostr. 11
 2\n64372 Ober-Ramstadt\nKurzbeschreibung / Untertitel: Für Kinder zwischen
  5 und 12 Jahren\nAusführliche Beschreibung: Zachäus- woher weht der Wind.
 ..\n\nAnmeldung und weitere Informationen ab Anfang Mai auf unserer Homepa
 ge https://waldensergemeinde.ekhn.de/ oder hier im Termin.\nAnsprechpartne
 r: Pfarrer Christoph Lubotta Christoph.Lubotta@ekhn.de\n0 61 54 / 57 64 25
DTSTART;TZID=Europe/Berlin:20260530T100000
DTEND;TZID=Europe/Berlin:20260530T160000
LOCATION:Ober-Ramstadt: Waldenserkirche Rohrbach
SUMMARY:Kinderbibeltag :: Kirche & Kita Rohrbach
URL:https://termine.ekhn.de/veranstaltung_im_detail34779.html
END:VEVENT
END:VCALENDAR
