BEGIN:VCALENDAR
VERSION:2.0
PRODID:-//evangelische-termine.de//NONSGML kigkonsult.se iCalcreator 2.18//
CALSCALE:GREGORIAN
METHOD:PUBLISH
X-WR-CALNAME:iCal Evangelische-Termine 21.04.2026
X-WR-CALDESC:iCalender von Evangelische-Termine (21.04.2026)
X-WR-TIMEZONE:Europe/Berlin
X-MS-OLK-FORCEINSPECTOROPEN:TRUE
BEGIN:VTIMEZONE
TZID:Europe/Berlin
BEGIN:STANDARD
DTSTART:19701025T030000
TZOFFSETFROM:+0200
TZOFFSETTO:+0100
RRULE:FREQ=YEARLY;BYDAY=-1SU;BYMONTH=10
TZNAME:CET
END:STANDARD
BEGIN:DAYLIGHT
DTSTART:19700329T020000
TZOFFSETFROM:+0100
TZOFFSETTO:+0200
RRULE:FREQ=YEARLY;BYDAY=-1SU;BYMONTH=3
TZNAME:CEST
END:DAYLIGHT
END:VTIMEZONE
BEGIN:VEVENT
UID:20260624T134500-36642@evangelische-termine.de
DTSTAMP:20260421T090957Z
DESCRIPTION:\nFür Engagierte: Nein\nVeranstaltungsort: Städelmuseum Frankfu
 rt\nSchaumainkai 63\n60596 Frankfurt am Main\nFormat der Veranstaltung: Pr
 äsenzveranstaltung\nAusführliche Beschreibung: Pieter Bruegel der Ältere (
 1525/30–1569) entführt mit seinen Werken in eine fantastische Welt voller 
 humorvoller Bildideen und rätselhafter Details. Heute vor allem als Maler 
 bekannt\, machte er sich schon früh als Entwerfer von Druckgrafiken einen 
 Namen. Sein Œuvre reicht von weitläufigen Landschaftsdarstellungen über mo
 ralisch aufgeladene religiöse Szenen bis bis hin zu Einblicken in den Allt
 ag und allegorischen Bildkompositionen.\nNeben der künstlerischen Betracht
 ung sind religionsphilosophische und theologische Aspekte stets Teil der F
 ührungen von Pfarrer David Schnell.  \n•	Eintritt: 6€/Person (Museumsuferca
 rd ist voraussichtlich nicht gültig) \n•	Treffpunkt Eingangsbereich Städel 
 am 24. Juni 2026 um 13:45 Uhr \nVorherige Anmeldung mit Zusage ist notwend
 ig. Teilnehmendenzahl ist begrenzt. \nAnmeldung unter inpuncto@online.de o
 der Telefon 069 35353798\nInternetadresse: https://www.staedelmuseum.de/de
 /bruegel
DTSTART;TZID=Europe/Berlin:20260624T134500
DTEND;TZID=Europe/Berlin:20260624T144500
LOCATION:Frankfurt am Main: Städelmuseum Frankfurt
SUMMARY:„Bruegels fantastische Welten“ Führung mit David Schnell :: Ansprec
 hperson Barbara Becker
URL:https://termine.ekhn.de/veranstaltung_im_detail36642.html
END:VEVENT
END:VCALENDAR
