BEGIN:VCALENDAR
VERSION:2.0
PRODID:-//evangelische-termine.de//NONSGML kigkonsult.se iCalcreator 2.18//
CALSCALE:GREGORIAN
METHOD:PUBLISH
X-WR-CALNAME:iCal Evangelische-Termine 22.04.2026
X-WR-CALDESC:iCalender von Evangelische-Termine (22.04.2026)
X-WR-TIMEZONE:Europe/Berlin
X-MS-OLK-FORCEINSPECTOROPEN:TRUE
BEGIN:VTIMEZONE
TZID:Europe/Berlin
BEGIN:STANDARD
DTSTART:19701025T030000
TZOFFSETFROM:+0200
TZOFFSETTO:+0100
RRULE:FREQ=YEARLY;BYDAY=-1SU;BYMONTH=10
TZNAME:CET
END:STANDARD
BEGIN:DAYLIGHT
DTSTART:19700329T020000
TZOFFSETFROM:+0100
TZOFFSETTO:+0200
RRULE:FREQ=YEARLY;BYDAY=-1SU;BYMONTH=3
TZNAME:CEST
END:DAYLIGHT
END:VTIMEZONE
BEGIN:VEVENT
UID:20260523T110000-36693@evangelische-termine.de
DTSTAMP:20260422T143426Z
DESCRIPTION:\nFür Engagierte: Nein\nVeranstaltungsort: Ev. Kindertagesstätt
 e „Unterm Regenbogen“\nZum Quellenpark 26 A\n65812 Bad Soden\nFormat der V
 eranstaltung: Präsenzveranstaltung\nVeranstalter: Martina Aleweld und Pfr.
 Heidrich
DTSTART;TZID=Europe/Berlin:20260523T110000
DTEND;TZID=Europe/Berlin:20260523T120000
LOCATION:Bad Soden: Ev. Kindertagesstätte „Unterm Regenbogen“
SUMMARY:Minikirche :: für Krabbelkinder
URL:https://termine.ekhn.de/veranstaltung_im_detail36693.html
END:VEVENT
END:VCALENDAR
