BEGIN:VCALENDAR
VERSION:2.0
PRODID:-//evangelische-termine.de//NONSGML kigkonsult.se iCalcreator 2.18//
CALSCALE:GREGORIAN
METHOD:PUBLISH
X-WR-CALNAME:iCal Evangelische-Termine 20.04.2026
X-WR-CALDESC:iCalender von Evangelische-Termine (20.04.2026)
X-WR-TIMEZONE:Europe/Berlin
X-MS-OLK-FORCEINSPECTOROPEN:TRUE
BEGIN:VTIMEZONE
TZID:Europe/Berlin
BEGIN:STANDARD
DTSTART:19701025T030000
TZOFFSETFROM:+0200
TZOFFSETTO:+0100
RRULE:FREQ=YEARLY;BYDAY=-1SU;BYMONTH=10
TZNAME:CET
END:STANDARD
BEGIN:DAYLIGHT
DTSTART:19700329T020000
TZOFFSETFROM:+0100
TZOFFSETTO:+0200
RRULE:FREQ=YEARLY;BYDAY=-1SU;BYMONTH=3
TZNAME:CEST
END:DAYLIGHT
END:VTIMEZONE
BEGIN:VEVENT
UID:20260414T193000-37207@evangelische-termine.de
DTSTAMP:20260420T084902Z
DESCRIPTION:\nFür Engagierte: Nein\nVeranstaltungsort: Paul Gerhardt Gemein
 dezentrum Niederrad\nGerauer Straße 52\n60528 Frankfurt am Main\nFormat de
 r Veranstaltung: Präsenzveranstaltung\nKurzbeschreibung / Untertitel: Die 
 Vermessung der Welt\, Daniel Kehlmann\nAusführliche Beschreibung: Lesen un
 d mit anderen darüber in´s Gespräch zu kommen ist für uns immer wieder ein
  Erlebnis und macht Freude. \nWir freuen uns auf noch mehr Lesefreudige in
  unserer offenen Runde.\nKosten: Keine\nVeranstalter: Evangelische Schöpfu
 ngsgemeinde Frankfurt\nTelefonnummer bei Rückfragen zur Veranstaltung: 017
 14562883
DTSTART;TZID=Europe/Berlin:20260414T193000
DTEND;TZID=Europe/Berlin:20260414T203000
LOCATION:Frankfurt am Main: Paul Gerhardt Gemeindezentrum Niederrad
SUMMARY:Offener Literaturkreis :: Für alle Lesebegeisterten
URL:https://termine.ekhn.de/veranstaltung_im_detail37207.html
END:VEVENT
END:VCALENDAR
