BEGIN:VCALENDAR
VERSION:2.0
PRODID:-//evangelische-termine.de//NONSGML kigkonsult.se iCalcreator 2.18//
CALSCALE:GREGORIAN
METHOD:PUBLISH
X-WR-CALNAME:iCal Evangelische-Termine 20.04.2026
X-WR-CALDESC:iCalender von Evangelische-Termine (20.04.2026)
X-WR-TIMEZONE:Europe/Berlin
X-MS-OLK-FORCEINSPECTOROPEN:TRUE
BEGIN:VTIMEZONE
TZID:Europe/Berlin
BEGIN:STANDARD
DTSTART:19701025T030000
TZOFFSETFROM:+0200
TZOFFSETTO:+0100
RRULE:FREQ=YEARLY;BYDAY=-1SU;BYMONTH=10
TZNAME:CET
END:STANDARD
BEGIN:DAYLIGHT
DTSTART:19700329T020000
TZOFFSETFROM:+0100
TZOFFSETTO:+0200
RRULE:FREQ=YEARLY;BYDAY=-1SU;BYMONTH=3
TZNAME:CEST
END:DAYLIGHT
END:VTIMEZONE
BEGIN:VEVENT
UID:20260511T150000-37526@evangelische-termine.de
DTSTAMP:20260420T004107Z
DESCRIPTION:\nFür Engagierte: Nein\nFormat der Veranstaltung: Onlineveranst
 altung\nAusführliche Beschreibung: MAV-Sprechstunde am 11. Mai 2026\, Mont
 ag\, 15 Uhr via ZOOM. Die Einwahldaten lauten:\nhttps://us06web.zoom.us/j/
 82384582351?pwd=FMXkDHkjcvggqv8gJaowiVQR1bhGk8.1\nMeeting-ID: 823 8458 235
 1\nKenncode: 509471\nInternetadresse: https://dekanat-bergstrasse.ekhn.de/
 ueber-uns/mav\nVeranstalter: MAV des Dekanats Bergstraße\nTelefonnummer be
 i Rückfragen zur Veranstaltung: 06252673350
DTSTART;TZID=Europe/Berlin:20260511T150000
DTEND;TZID=Europe/Berlin:20260511T160000
LOCATION:: Ohne Ort
SUMMARY:Online-Sprechstunde der MAV des Dekanats Bergstraße für alle Mitarb
 eitenden
URL:https://termine.ekhn.de/veranstaltung_im_detail37526.html
END:VEVENT
END:VCALENDAR
