BEGIN:VCALENDAR
VERSION:2.0
PRODID:-//evangelische-termine.de//NONSGML kigkonsult.se iCalcreator 2.18//
CALSCALE:GREGORIAN
METHOD:PUBLISH
X-WR-CALNAME:iCal Evangelische-Termine 20.04.2026
X-WR-CALDESC:iCalender von Evangelische-Termine (20.04.2026)
X-WR-TIMEZONE:Europe/Berlin
X-MS-OLK-FORCEINSPECTOROPEN:TRUE
BEGIN:VTIMEZONE
TZID:Europe/Berlin
BEGIN:STANDARD
DTSTART:19701025T030000
TZOFFSETFROM:+0200
TZOFFSETTO:+0100
RRULE:FREQ=YEARLY;BYDAY=-1SU;BYMONTH=10
TZNAME:CET
END:STANDARD
BEGIN:DAYLIGHT
DTSTART:19700329T020000
TZOFFSETFROM:+0100
TZOFFSETTO:+0200
RRULE:FREQ=YEARLY;BYDAY=-1SU;BYMONTH=3
TZNAME:CEST
END:DAYLIGHT
END:VTIMEZONE
BEGIN:VEVENT
UID:20260909T143000-37527@evangelische-termine.de
DTSTAMP:20260420T003830Z
DESCRIPTION:\nFür Engagierte: Nein\nVeranstaltungsort: Melibokushalle Zwing
 enberg\nMelibokusstraße 10\n64673 Zwingenberg\nFormat der Veranstaltung: P
 räsenzveranstaltung\nInternetadresse: https://dekanat-bergstrasse.ekhn.de/
 ueber-uns/mav\nVeranstalter: MAV des Dekanats Bergstraße\nTelefonnummer be
 i Rückfragen zur Veranstaltung: 06252673350
DTSTART;TZID=Europe/Berlin:20260909T143000
DTEND;TZID=Europe/Berlin:20260909T153000
LOCATION:Zwingenberg: Melibokushalle Zwingenberg
SUMMARY:Vollversammlung der MAV des Dekanats Bergstraße
URL:https://termine.ekhn.de/veranstaltung_im_detail37527.html
END:VEVENT
END:VCALENDAR
