BEGIN:VCALENDAR
VERSION:2.0
PRODID:-//evangelische-termine.de//NONSGML kigkonsult.se iCalcreator 2.18//
CALSCALE:GREGORIAN
METHOD:PUBLISH
X-WR-CALNAME:iCal Evangelische-Termine 20.04.2026
X-WR-CALDESC:iCalender von Evangelische-Termine (20.04.2026)
X-WR-TIMEZONE:Europe/Berlin
X-MS-OLK-FORCEINSPECTOROPEN:TRUE
BEGIN:VTIMEZONE
TZID:Europe/Berlin
BEGIN:STANDARD
DTSTART:19701025T030000
TZOFFSETFROM:+0200
TZOFFSETTO:+0100
RRULE:FREQ=YEARLY;BYDAY=-1SU;BYMONTH=10
TZNAME:CET
END:STANDARD
BEGIN:DAYLIGHT
DTSTART:19700329T020000
TZOFFSETFROM:+0100
TZOFFSETTO:+0200
RRULE:FREQ=YEARLY;BYDAY=-1SU;BYMONTH=3
TZNAME:CEST
END:DAYLIGHT
END:VTIMEZONE
BEGIN:VEVENT
UID:20260311T180000-37925@evangelische-termine.de
DTSTAMP:20260420T093547Z
DESCRIPTION:\nFür Engagierte: Nein\nVeranstaltungsort: Evangelische Kirche 
 Kirburg\nKöln-Leipziger Straße 20\n57629 Kirburg\nFormat der Veranstaltung
 : Präsenzveranstaltung\nAusführliche Beschreibung: Zu einem Friedensgebet 
 lädt die Evangelische Kirchengemeinde Kirburg am Mittwoch\, den 11. März u
 m 18 Uhr in die Kirche in Kirburg ein. Der Konflikt im Nahen Osten eskalie
 rt\; viele Menschen leben in Angst und Unsicherheit angesichts der anhalte
 nden Gewalt. Das gemeinsame Gebet soll Raum für Stille und Besinnung biete
 n und ein Zeichen setzen für Frieden und Menschlichkeit. Pfarrer Rüdiger S
 tein sagt: „Viele Menschen verfolgen die Nachrichten aus dem Nahen Osten m
 it großer Sorge. Teilnehmende können ihre Sorgen und Ängste und ihre Ohnma
 cht im Gebet vor Gott bringen.“ Alle Interessierten sind herzlich eingelad
 en.\nKosten: kostenfrei\nVeranstalter: Evangelische Kirchengemeinde Kirbur
 g
DTSTART;TZID=Europe/Berlin:20260311T180000
DTEND;TZID=Europe/Berlin:20260311T190000
LOCATION:Kirburg: Evangelische Kirche Kirburg
SUMMARY:Friedensgebet zum Krieg im Nahen Osten
URL:https://termine.ekhn.de/veranstaltung_im_detail37925.html
END:VEVENT
END:VCALENDAR
