BEGIN:VCALENDAR
VERSION:2.0
PRODID:-//evangelische-termine.de//NONSGML kigkonsult.se iCalcreator 2.18//
CALSCALE:GREGORIAN
METHOD:PUBLISH
X-WR-CALNAME:iCal Evangelische-Termine 20.04.2026
X-WR-CALDESC:iCalender von Evangelische-Termine (20.04.2026)
X-WR-TIMEZONE:Europe/Berlin
X-MS-OLK-FORCEINSPECTOROPEN:TRUE
BEGIN:VTIMEZONE
TZID:Europe/Berlin
BEGIN:STANDARD
DTSTART:19701025T030000
TZOFFSETFROM:+0200
TZOFFSETTO:+0100
RRULE:FREQ=YEARLY;BYDAY=-1SU;BYMONTH=10
TZNAME:CET
END:STANDARD
BEGIN:DAYLIGHT
DTSTART:19700329T020000
TZOFFSETFROM:+0100
TZOFFSETTO:+0200
RRULE:FREQ=YEARLY;BYDAY=-1SU;BYMONTH=3
TZNAME:CEST
END:DAYLIGHT
END:VTIMEZONE
BEGIN:VEVENT
UID:20260314T150000-37926@evangelische-termine.de
DTSTAMP:20260420T093526Z
DESCRIPTION:\nFür Engagierte: Nein\nVeranstaltungsort: Evangelisches Gemein
 dehaus Rabenscheid\nAm Scheid 8\n35767 Rabenscheid\nFormat der Veranstaltu
 ng: Präsenzveranstaltung\nAusführliche Beschreibung: Zu einem Frauennachmi
 ttag lädt die evangelische Kirchengemeinde Rabenscheid am Samstag\, den 14
 . März von 15 bis 17 Uhr in das Evangelische Gemeindehaus\, Am Scheid 8\, 
 ein. Im Mittelpunkt der Veranstaltung steht die Vorstellung des gemeinnütz
 igen Vereins Perlenschatz. Perlenschatz berät und schützt Frauen\, die von
  häuslicher Gewalt betroffen sind oder von Zwangsheirat oder sogenannten E
 hrenmorden bedroht werden. Die gemeinnützige Organisation richtet sich bes
 onders an Frauen aus Einwandererfamilien und ihre Kinder. Auch in Deutschl
 and werden jedes Jahr Tausende junge Frauen gegen ihren Willen verheiratet
 . Perlenschatz begleitet diese Frauen\, häufig aus stark patriarchal geprä
 gten Familienstrukturen\, auf ihrem Weg in die Freiheit und in ein Leben i
 n Würde. Ein besonderes Merkmal der Arbeit von Perlenschatz ist das Wohn- 
 und Lebensgemeinschaftsmodell. Um den Frauen in einer schwierigen Lebensph
 ase Halt zu geben und ihnen ein familiäres Umfeld zu bieten\, leben sie ge
 meinsam mit sogenannten Hauseltern. Auf diese Weise entsteht eine Art Ersa
 tzfamilie. Mit individuellen Unterstützungsangeboten begleitet der Verein 
 die Frauen intensiv und so lange\, bis sie sich sicher genug fühlen\, um d
 en Schritt in eine eigene Wohnung zu gehen. Dieses Konzept gilt in Deutsch
 land als einzigartig.\nWie dringend solche Hilfsangebote gebraucht werden\
 , zeigen aktuelle Zahlen: Laut einer europäischen Studie haben 35 Prozent 
 aller Frauen in Deutschland im Alter zwischen 15 und 74 Jahren bereits Gew
 alt erlebt. Statistiken des Bundeskriminalamtes zufolge kommt es zudem nah
 ezu täglich zu einem Femizid in Deutschland. \nDie Kirchengemeinde lädt al
 le interessierten Frauen herzlich zu diesem informativen und zugleich gemü
 tlichen Nachmittag bei Kaffee und Kuchen ein. Weitere Informationen zu Per
 lenschatz: E-Mail: www.perlenschatz.info\, Telefon: 06442 9543994\nKosten:
  kostenfrei\nVeranstalter: Kirchengemeinde Rabenscheid
DTSTART;TZID=Europe/Berlin:20260314T150000
DTEND;TZID=Europe/Berlin:20260314T170000
LOCATION:Rabenscheid: Evangelisches Gemeindehaus Rabenscheid
SUMMARY:Frauennachmittag zu 'Perlenschatz'
URL:https://termine.ekhn.de/veranstaltung_im_detail37926.html
END:VEVENT
END:VCALENDAR
