BEGIN:VCALENDAR
VERSION:2.0
PRODID:-//evangelische-termine.de//NONSGML kigkonsult.se iCalcreator 2.18//
CALSCALE:GREGORIAN
METHOD:PUBLISH
X-WR-CALNAME:iCal Evangelische-Termine 21.04.2026
X-WR-CALDESC:iCalender von Evangelische-Termine (21.04.2026)
X-WR-TIMEZONE:Europe/Berlin
X-MS-OLK-FORCEINSPECTOROPEN:TRUE
BEGIN:VTIMEZONE
TZID:Europe/Berlin
BEGIN:STANDARD
DTSTART:19701025T030000
TZOFFSETFROM:+0200
TZOFFSETTO:+0100
RRULE:FREQ=YEARLY;BYDAY=-1SU;BYMONTH=10
TZNAME:CET
END:STANDARD
BEGIN:DAYLIGHT
DTSTART:19700329T020000
TZOFFSETFROM:+0100
TZOFFSETTO:+0200
RRULE:FREQ=YEARLY;BYDAY=-1SU;BYMONTH=3
TZNAME:CEST
END:DAYLIGHT
END:VTIMEZONE
BEGIN:VEVENT
UID:20260427T080000-39107@evangelische-termine.de
DTSTAMP:20260421T024008Z
DESCRIPTION:\nFür Engagierte: Nein\nVeranstaltungsort: Ev. Christuskircheng
 emeinde Dreieich\nFichtestr. 31\n63303 Dreieich\nFormat der Veranstaltung:
  Präsenzveranstaltung\nAusführliche Beschreibung: Die Sammelstelle ist vor
  dem Gemeindehaus und entsprechend gekennzeichnet.\nBitte stellen Sie nur 
 in der angegebenen Zeit Ihre Kleiderspenden ab.\n\nVeranstaltungsort:\nvor
  dem Gemeindehaus\nFichtestr. 31\n63303 Dreieich-Sprendlingen\n\nKontakt:
 \nE-Mail: Christuskirchengemeinde.Dreieich@ekhn.de\nVeranstalter: Ev. Chri
 stuskirchengemeinde Dreieich\nTelefonnummer bei Rückfragen zur Veranstaltu
 ng: 06103 67156
DTSTART;TZID=Europe/Berlin:20260427T080000
DTEND;TZID=Europe/Berlin:20260502T160000
LOCATION:Dreieich: Ev. Christuskirchengemeinde Dreieich
SUMMARY:Kleidersammlung Bethel
URL:https://termine.ekhn.de/veranstaltung_im_detail39107.html
END:VEVENT
END:VCALENDAR
