BEGIN:VCALENDAR
VERSION:2.0
PRODID:-//evangelische-termine.de//NONSGML kigkonsult.se iCalcreator 2.18//
CALSCALE:GREGORIAN
METHOD:PUBLISH
X-WR-CALNAME:iCal Evangelische-Termine 21.04.2026
X-WR-CALDESC:iCalender von Evangelische-Termine (21.04.2026)
X-WR-TIMEZONE:Europe/Berlin
X-MS-OLK-FORCEINSPECTOROPEN:TRUE
BEGIN:VTIMEZONE
TZID:Europe/Berlin
BEGIN:STANDARD
DTSTART:19701025T030000
TZOFFSETFROM:+0200
TZOFFSETTO:+0100
RRULE:FREQ=YEARLY;BYDAY=-1SU;BYMONTH=10
TZNAME:CET
END:STANDARD
BEGIN:DAYLIGHT
DTSTART:19700329T020000
TZOFFSETFROM:+0100
TZOFFSETTO:+0200
RRULE:FREQ=YEARLY;BYDAY=-1SU;BYMONTH=3
TZNAME:CEST
END:DAYLIGHT
END:VTIMEZONE
BEGIN:VEVENT
UID:20260905T100000-39766@evangelische-termine.de
DTSTAMP:20260421T100512Z
DESCRIPTION:\nVeranstaltungsort: Friedensplatz Darmstadt\nFriedensplatz 4\n
 64283 Darmstadt\nAusführliche Beschreibung: Am Samstag\, 5. September 2026
  von 10:00 bis 15:00 Uhr verwandelt sich der Friedensplatz in Darmstadt wi
 eder in eine lebendige Erlebniswelt rund um Nachhaltigkeit\, Klima- und Um
 weltschutz. Die Go.BioFair lädt bereits zum wiederholten Mal Darmstädterin
 nen und Darmstädter sowie Besucherinnen und Besucher aus der Region ein\, 
 sich über zukunftsweisende Projekte zu informieren und aktiv zu werden.\n
 \nMehr als 30 Initiativen\, Unternehmen\, Vereine und Institutionen präsen
 tieren an ihren Informationsständen Hintergründe zu Klima- und Umweltschut
 z\, innovative Ideen und praktische Lösungen für den Alltag. Das Spektrum 
 reicht von erneuerbaren Energien über nachhaltigen Konsum bis hin zu Natur
 schutzprojekten vor der Haustür.\n\nDie Veranstaltung wird gemeinsam vom U
 mweltamt der Wissenschaftsstadt Darmstadt und dem evangelischen Dekanat Da
 rmstadt organisiert. Unterstützt werden sie von zahlreichen lokalen Akteur
 en aus Wirtschaft\, Wissenschaft und Zivilgesellschaft\, die mit ihren Ang
 eboten die Vielfalt nachhaltiger Initiativen in der Region widerspiegeln.
DTSTART;TZID=Europe/Berlin:20260905T100000
DTEND;TZID=Europe/Berlin:20260905T150000
LOCATION:Darmstadt: Friedensplatz Darmstadt
SUMMARY:Go.BioFair :: Markt für Umwelt und Nachhaltigkeit
URL:https://termine.ekhn.de/veranstaltung_im_detail39766.html
END:VEVENT
END:VCALENDAR
