BEGIN:VCALENDAR
VERSION:2.0
PRODID:-//evangelische-termine.de//NONSGML kigkonsult.se iCalcreator 2.18//
CALSCALE:GREGORIAN
METHOD:PUBLISH
X-WR-CALNAME:iCal Evangelische-Termine 22.04.2026
X-WR-CALDESC:iCalender von Evangelische-Termine (22.04.2026)
X-WR-TIMEZONE:Europe/Berlin
X-MS-OLK-FORCEINSPECTOROPEN:TRUE
BEGIN:VTIMEZONE
TZID:Europe/Berlin
BEGIN:STANDARD
DTSTART:19701025T030000
TZOFFSETFROM:+0200
TZOFFSETTO:+0100
RRULE:FREQ=YEARLY;BYDAY=-1SU;BYMONTH=10
TZNAME:CET
END:STANDARD
BEGIN:DAYLIGHT
DTSTART:19700329T020000
TZOFFSETFROM:+0100
TZOFFSETTO:+0200
RRULE:FREQ=YEARLY;BYDAY=-1SU;BYMONTH=3
TZNAME:CEST
END:DAYLIGHT
END:VTIMEZONE
BEGIN:VEVENT
UID:20260618T193000-39965@evangelische-termine.de
DTSTAMP:20260422T091914Z
DESCRIPTION:\nKurzbeschreibung / Untertitel: (mit Pfr. Karl Endemann)\nAusf
 ührliche Beschreibung: ... folgt ...\nVeranstaltungsort: Thomas Gemeindeha
 us\nBerliner Straße 37-37b\n55131 Mainz\nEintritt: Eintritt frei - Spenden
  willkommen\nVeranstalter: Förderverein Thomaskirche e.V.\, Mainz\nE-Mail:
  KiMuTho@magenta.de\nTelefon: 01523 801 7923
DTSTART;TZID=Europe/Berlin:20260618T193000
DTEND;TZID=Europe/Berlin:20260618T211500
LOCATION:Mainz: Thomas Gemeindehaus
SUMMARY:Die christliche Verheißung
URL:https://termine.ekhn.de/veranstaltung_im_detail39965.html
END:VEVENT
END:VCALENDAR
